FILENAME: O4510564.SES.840719.tif
QUADRANGLE_NAME: BELLE CREEK SOUTH
QUADRANT: SE
WEST_LONGITUDE: -105 3 45.00000
EAST_LONGITUDE: -105 0 0.00000
NORTH_LATITUDE: 45 3 45.00000
SOUTH_LATITUDE: 45 0 0.00000
PRODUCTION_DATE: 1997 11 16
RASTER_ORDER: LEFT_RIGHT/TOP_BOTTOM
BAND_ORGANIZATION: SINGLE FILE
BAND_CONTENT: BLACK&WHITE
BAND_CONTENT: UNDEFINED
BAND_CONTENT: UNDEFINED
BITS_PER_PIXEL: 8
SAMPLES_AND_LINES: 5568 7546
HORIZONTAL_DATUM: NAD83
HORIZONTAL_COORDINATE_SYSTEM: UTM
COORDINATE_ZONE: 13
HORIZONTAL_UNITS: METERS
HORIZONTAL_RESOLUTION: 1.00000
SECONDARY_HORIZONTAL_DATUM: NAD27
XY_ORIGIN: 494732.50000 4990194.50000
SECONDARY_XY_ORIGIN: 494774.63000 4989978.86100
NATION: US
STATE: MT
STATE: WY
NW_QUAD_CORNER_XY: 495079.40200 4989895.29600
NE_QUAD_CORNER_XY: 500000.00000 4989893.39700
SE_QUAD_CORNERY_XY: 500000.00000 4982950.40100
SW_QUAD_CORNER_XY: 495074.04400 4982952.30000
SECONDARY_NW_QUAD_XY: 495079.25700 4989678.05000
SECONDARY_NE_QUAD_XY: 500000.00000 4989676.15100
SECONDARY_SE_QUAD_XY: 500000.00000 4982733.21000
SECONDARY_SW_QUAD_XY: 495073.89900 4982735.11000
RMSE_XY: 1.34000
IMAGE_SOURCE: BLACK & WHITE FILM
SOURCE_IMAGE_ID: NAPP 3708 20
SOURCE_IMAGE_DATE: 1991 08 30
SOURCE_DEM_DATE: 1970 01 01
AGENCY: WESTERN MAPPING CENTER (WMC)
PRODUCER: NIES MAPPING GROUP, INC.
PRODUCTION_SYSTEM: INTERGRAPH MODEL_SETUP, BASE_RECTIFIER
COMPRESSION: UNDEFINED
STANDARD_VERSION: 1996 12
METADATA_DATE: 1997 11 16
DATA_FILE_SIZE: 42021696
BYTE_COUNT: 5568
