FILENAME: O4510405.SWS.941604.tif
QUADRANGLE_NAME: TERRELL CREEK
QUADRANT: SW
WEST_LONGITUDE: -104 30 0.00000
EAST_LONGITUDE: -104 26 15.00000
NORTH_LATITUDE: 45 56 15.00000
SOUTH_LATITUDE: 45 52 30.00000
PRODUCTION_DATE: 1998 11 25
RASTER_ORDER: LEFT_RIGHT/TOP_BOTTOM
BAND_ORGANIZATION: SINGLE FILE
BAND_CONTENT: BLACK&WHITE
BAND_CONTENT: UNDEFINED
BAND_CONTENT: UNDEFINED
BITS_PER_PIXEL: 8
SAMPLES_AND_LINES: 5536 7580
HORIZONTAL_DATUM: NAD83
HORIZONTAL_COORDINATE_SYSTEM: UTM
COORDINATE_ZONE: 13
HORIZONTAL_UNITS: METERS
HORIZONTAL_RESOLUTION: 1.00000
SECONDARY_HORIZONTAL_DATUM: NAD27
XY_ORIGIN: 538420.00000 5087558.00000
SECONDARY_XY_ORIGIN: 538460.34900 5087340.50300
NATION: US
STATE: MT
NW_QUAD_CORNER_XY: 538759.71000 5087224.88100
NE_QUAD_CORNER_XY: 543604.66900 5087257.16200
SE_QUAD_CORNERY_XY: 543653.63300 5080313.10800
SW_QUAD_CORNER_XY: 538803.23300 5080280.82400
SECONDARY_NW_QUAD_XY: 538760.87800 5087006.95500
SECONDARY_NE_QUAD_XY: 543605.98300 5087039.23800
SECONDARY_SE_QUAD_XY: 543654.94600 5080095.22700
SECONDARY_SW_QUAD_XY: 538804.40000 5080062.94200
RMSE_XY: 2.40000
IMAGE_SOURCE: BLACK AND WHITE FILM
SOURCE_IMAGE_ID: NAPP 9104 15
SOURCE_IMAGE_DATE: 1996 7 29
SOURCE_DEM_DATE: 1998 07 23
AGENCY: WESTERN MAPPING CENTER (WMC)
PRODUCER: MID-CONTINENT MAPPING CENTER (MCMC)
PRODUCTION_SYSTEM: DV2.6.3 10/9OV2.4 5/95
COMPRESSION: UNDEFINED
STANDARD_VERSION: 1996 12
METADATA_DATE: 1998 12 9
DATA_FILE_SIZE: 41968416
BYTE_COUNT: 5536
