FILENAME: O4510409.SES.1167335.tif
QUADRANGLE_NAME: BLACKTAIL CREEK SW
QUADRANT: SE
WEST_LONGITUDE: -104 56 15.00000
EAST_LONGITUDE: -104 52 30.00000
NORTH_LATITUDE: 45 48 45.00000
SOUTH_LATITUDE: 45 45 0.00000
PRODUCTION_DATE: 2001 11 19
RASTER_ORDER: LEFT_RIGHT/TOP_BOTTOM
BAND_ORGANIZATION: SINGLE FILE
BAND_CONTENT: BLACK&WHITE
BAND_CONTENT: UNDEFINED
BAND_CONTENT: UNDEFINED
BITS_PER_PIXEL: 8
SAMPLES_AND_LINES: 5511 7553
HORIZONTAL_DATUM: NAD83
HORIZONTAL_COORDINATE_SYSTEM: UTM
COORDINATE_ZONE: 13
HORIZONTAL_UNITS: METERS
HORIZONTAL_RESOLUTION: 1.00000
SECONDARY_HORIZONTAL_DATUM: NAD27
XY_ORIGIN: 504514.00000 5073524.00000
SECONDARY_XY_ORIGIN: 504555.00000 5073307.00000
NATION: US
STATE: MT
NW_QUAD_CORNER_XY: 504855.84000 5073217.19900
NE_QUAD_CORNER_XY: 509711.68000 5073222.89600
SE_QUAD_CORNERY_XY: 509722.53800 5066278.98500
SW_QUAD_CORNER_XY: 504861.26900 5066273.28700
SECONDARY_NW_QUAD_XY: 504855.98600 5072999.35700
SECONDARY_NE_QUAD_XY: 509711.97200 5073005.05500
SECONDARY_SE_QUAD_XY: 509722.82900 5066061.18900
SECONDARY_SW_QUAD_XY: 504861.41500 5066055.49100
RMSE_XY: 2.00000
IMAGE_SOURCE: BLACK AND WHITE FILM
SOURCE_IMAGE_ID: NAPP 10722 121
SOURCE_IMAGE_DATE: 1997 8 25
SOURCE_DEM_DATE: 1972 00 00
AGENCY: ROCKY MOUNTAIN MAPPING CENTER (RMMC)
PRODUCER: ROCKY MOUNTAIN MAPPING CENTER (RMMC)
PRODUCTION_SYSTEM: DV2.6.4 1/00 OV2.6 6/00
COMPRESSION: UNDEFINED
STANDARD_VERSION: 1996 12
METADATA_DATE: 2001 11 19
DATA_FILE_SIZE: 41630094
BYTE_COUNT: 5511
