FILENAME: O4510409.NES.1167333.tif
QUADRANGLE_NAME: BLACKTAIL CREEK SW
QUADRANT: NE
WEST_LONGITUDE: -104 56 15.00000
EAST_LONGITUDE: -104 52 30.00000
NORTH_LATITUDE: 45 52 30.00000
SOUTH_LATITUDE: 45 48 45.00000
PRODUCTION_DATE: 2001 11 17
RASTER_ORDER: LEFT_RIGHT/TOP_BOTTOM
BAND_ORGANIZATION: SINGLE FILE
BAND_CONTENT: BLACK&WHITE
BAND_CONTENT: UNDEFINED
BAND_CONTENT: UNDEFINED
BITS_PER_PIXEL: 8
SAMPLES_AND_LINES: 5505 7553
HORIZONTAL_DATUM: NAD83
HORIZONTAL_COORDINATE_SYSTEM: UTM
COORDINATE_ZONE: 13
HORIZONTAL_UNITS: METERS
HORIZONTAL_RESOLUTION: 1.00000
SECONDARY_HORIZONTAL_DATUM: NAD27
XY_ORIGIN: 504509.00000 5080468.00000
SECONDARY_XY_ORIGIN: 504550.00000 5080251.00000
NATION: US
STATE: MT
NW_QUAD_CORNER_XY: 504850.40600 5080161.18700
NE_QUAD_CORNER_XY: 509700.81200 5080166.88400
SE_QUAD_CORNERY_XY: 509711.68000 5073222.89600
SW_QUAD_CORNER_XY: 504855.84000 5073217.19900
SECONDARY_NW_QUAD_XY: 504850.55200 5079943.30100
SECONDARY_NE_QUAD_XY: 509701.10300 5079948.99800
SECONDARY_SE_QUAD_XY: 509711.97200 5073005.05500
SECONDARY_SW_QUAD_XY: 504855.98600 5072999.35700
RMSE_XY: 1.80000
IMAGE_SOURCE: BLACK AND WHITE FILM
SOURCE_IMAGE_ID: NAPP 10722 123
SOURCE_IMAGE_DATE: 1997 8 25
SOURCE_DEM_DATE: 1972 00 00
AGENCY: ROCKY MOUNTAIN MAPPING CENTER (RMMC)
PRODUCER: ROCKY MOUNTAIN MAPPING CENTER (RMMC)
PRODUCTION_SYSTEM: DV2.6.4 1/00 OV2.6 6/00
COMPRESSION: UNDEFINED
STANDARD_VERSION: 1996 12
METADATA_DATE: 2001 11 17
DATA_FILE_SIZE: 41584770
BYTE_COUNT: 5505
