FILENAME: O4510411.NWS.941610.tif
QUADRANGLE_NAME: BEAVER FLATS SOUTH
QUADRANT: NW
WEST_LONGITUDE: -104 45 0.00000
EAST_LONGITUDE: -104 41 15.00000
NORTH_LATITUDE: 45 52 30.00000
SOUTH_LATITUDE: 45 48 45.00000
PRODUCTION_DATE: 1998 11 16
RASTER_ORDER: LEFT_RIGHT/TOP_BOTTOM
BAND_ORGANIZATION: SINGLE FILE
BAND_CONTENT: BLACK&WHITE
BAND_CONTENT: UNDEFINED
BAND_CONTENT: UNDEFINED
BITS_PER_PIXEL: 8
SAMPLES_AND_LINES: 5520 7565
HORIZONTAL_DATUM: NAD83
HORIZONTAL_COORDINATE_SYSTEM: UTM
COORDINATE_ZONE: 13
HORIZONTAL_UNITS: METERS
HORIZONTAL_RESOLUTION: 1.00000
SECONDARY_HORIZONTAL_DATUM: NAD27
XY_ORIGIN: 519061.00000 5080508.00000
SECONDARY_XY_ORIGIN: 519101.58900 5080290.49700
NATION: US
STATE: MT
NW_QUAD_CORNER_XY: 519401.62200 5080189.67100
NE_QUAD_CORNER_XY: 524252.02600 5080206.76300
SE_QUAD_CORNERY_XY: 524279.19800 5073262.77700
SW_QUAD_CORNER_XY: 519423.36000 5073245.68500
SECONDARY_NW_QUAD_XY: 519402.20500 5079971.78700
SECONDARY_NE_QUAD_XY: 524252.75600 5079988.87800
SECONDARY_SE_QUAD_XY: 524279.92800 5073044.93700
SECONDARY_SW_QUAD_XY: 519423.94300 5073027.84500
RMSE_XY: 3.60000
IMAGE_SOURCE: BLACK AND WHITE FILM
SOURCE_IMAGE_ID: NAPP 9080 233
SOURCE_IMAGE_DATE: 1996 6 12
SOURCE_DEM_DATE: 1998 07 23
AGENCY: WESTERN MAPPING CENTER (WMC)
PRODUCER: MID-CONTINENT MAPPING CENTER (MCMC)
PRODUCTION_SYSTEM: DV2.6.3 10/9OV2.4 5/95
COMPRESSION: UNDEFINED
STANDARD_VERSION: 1996 12
METADATA_DATE: 1998 12 8
DATA_FILE_SIZE: 41764320
BYTE_COUNT: 5520
