FILENAME: O4510413.SES.941607.tif
QUADRANGLE_NAME: CAMP NEEDMORE
QUADRANT: SE
WEST_LONGITUDE: -104 26 15.00000
EAST_LONGITUDE: -104 22 30.00000
NORTH_LATITUDE: 45 48 45.00000
SOUTH_LATITUDE: 45 45 0.00000
PRODUCTION_DATE: 1998 11 17
RASTER_ORDER: LEFT_RIGHT/TOP_BOTTOM
BAND_ORGANIZATION: SINGLE FILE
BAND_CONTENT: BLACK&WHITE
BAND_CONTENT: UNDEFINED
BAND_CONTENT: UNDEFINED
BITS_PER_PIXEL: 8
SAMPLES_AND_LINES: 5552 7583
HORIZONTAL_DATUM: NAD83
HORIZONTAL_COORDINATE_SYSTEM: UTM
COORDINATE_ZONE: 13
HORIZONTAL_UNITS: METERS
HORIZONTAL_RESOLUTION: 1.00000
SECONDARY_HORIZONTAL_DATUM: NAD27
XY_ORIGIN: 543362.00000 5073706.00000
SECONDARY_XY_ORIGIN: 543402.45900 5073488.66700
NATION: US
STATE: MT
NW_QUAD_CORNER_XY: 543702.54400 5073369.13000
NE_QUAD_CORNER_XY: 548558.37700 5073405.21400
SE_QUAD_CORNERY_XY: 548612.66600 5066461.31300
SW_QUAD_CORNER_XY: 543751.40300 5066425.22700
SECONDARY_NW_QUAD_XY: 543703.85700 5073151.29300
SECONDARY_NE_QUAD_XY: 548559.83600 5073187.37800
SECONDARY_SE_QUAD_XY: 548614.12400 5066243.52200
SECONDARY_SW_QUAD_XY: 543752.71600 5066207.43500
RMSE_XY: 1.00000
IMAGE_SOURCE: BLACK AND WHITE FILM
SOURCE_IMAGE_ID: NAPP 10724 117
SOURCE_IMAGE_DATE: 1997 8 30
SOURCE_DEM_DATE: 1998 07 23
AGENCY: WESTERN MAPPING CENTER (WMC)
PRODUCER: MID-CONTINENT MAPPING CENTER (MCMC)
PRODUCTION_SYSTEM: DV2.6.3 10/9OV2.4 5/95
COMPRESSION: UNDEFINED
STANDARD_VERSION: 1996 12
METADATA_DATE: 1998 12 8
DATA_FILE_SIZE: 42106368
BYTE_COUNT: 5552
