FILENAME: O4510413.NWS.941606.tif
QUADRANGLE_NAME: CAMP NEEDMORE
QUADRANT: NW
WEST_LONGITUDE: -104 30 0.00000
EAST_LONGITUDE: -104 26 15.00000
NORTH_LATITUDE: 45 52 30.00000
SOUTH_LATITUDE: 45 48 45.00000
PRODUCTION_DATE: 1998 11 17
RASTER_ORDER: LEFT_RIGHT/TOP_BOTTOM
BAND_ORGANIZATION: SINGLE FILE
BAND_CONTENT: BLACK&WHITE
BAND_CONTENT: UNDEFINED
BAND_CONTENT: UNDEFINED
BITS_PER_PIXEL: 8
SAMPLES_AND_LINES: 5540 7580
HORIZONTAL_DATUM: NAD83
HORIZONTAL_COORDINATE_SYSTEM: UTM
COORDINATE_ZONE: 13
HORIZONTAL_UNITS: METERS
HORIZONTAL_RESOLUTION: 1.00000
SECONDARY_HORIZONTAL_DATUM: NAD27
XY_ORIGIN: 538463.00000 5080614.00000
SECONDARY_XY_ORIGIN: 538503.41500 5080396.58800
NATION: US
STATE: MT
NW_QUAD_CORNER_XY: 538803.23300 5080280.82400
NE_QUAD_CORNER_XY: 543653.63300 5080313.10800
SE_QUAD_CORNERY_XY: 543702.54400 5073369.13000
SW_QUAD_CORNER_XY: 538846.70900 5073336.84400
SECONDARY_NW_QUAD_XY: 538804.40000 5080062.94200
SECONDARY_NE_QUAD_XY: 543654.94600 5080095.22700
SECONDARY_SE_QUAD_XY: 543703.85700 5073151.29300
SECONDARY_SW_QUAD_XY: 538847.87600 5073119.00600
RMSE_XY: 2.60000
IMAGE_SOURCE: BLACK AND WHITE FILM
SOURCE_IMAGE_ID: NAPP 10724 178
SOURCE_IMAGE_DATE: 1997 8 30
SOURCE_DEM_DATE: 1998 07 23
AGENCY: WESTERN MAPPING CENTER (WMC)
PRODUCER: MID-CONTINENT MAPPING CENTER (MCMC)
PRODUCTION_SYSTEM: DV2.6.3 10/9OV2.4 5/95
COMPRESSION: UNDEFINED
STANDARD_VERSION: 1996 12
METADATA_DATE: 1998 12 8
DATA_FILE_SIZE: 41998740
BYTE_COUNT: 5540
