FILENAME: O4510415.SWS.941640.tif
QUADRANGLE_NAME: MILL IRON
QUADRANT: SW
WEST_LONGITUDE: -104 15 0.00000
EAST_LONGITUDE: -104 11 15.00000
NORTH_LATITUDE: 45 48 45.00000
SOUTH_LATITUDE: 45 45 0.00000
PRODUCTION_DATE: 1998 11 25
RASTER_ORDER: LEFT_RIGHT/TOP_BOTTOM
BAND_ORGANIZATION: SINGLE FILE
BAND_CONTENT: BLACK&WHITE
BAND_CONTENT: UNDEFINED
BAND_CONTENT: UNDEFINED
BITS_PER_PIXEL: 8
SAMPLES_AND_LINES: 5568 7595
HORIZONTAL_DATUM: NAD83
HORIZONTAL_COORDINATE_SYSTEM: UTM
COORDINATE_ZONE: 13
HORIZONTAL_UNITS: METERS
HORIZONTAL_RESOLUTION: 1.00000
SECONDARY_HORIZONTAL_DATUM: NAD27
XY_ORIGIN: 557930.00000 5073837.00000
SECONDARY_XY_ORIGIN: 557970.39700 5073619.64300
NATION: US
STATE: MT
NW_QUAD_CORNER_XY: 558270.03900 5073488.77800
NE_QUAD_CORNER_XY: 563125.86700 5073536.25900
SE_QUAD_CORNERY_XY: 563196.44400 5066592.36500
SW_QUAD_CORNER_XY: 558335.18600 5066544.88200
SECONDARY_NW_QUAD_XY: 558271.79000 5073270.94500
SECONDARY_NE_QUAD_XY: 563127.76400 5073318.42700
SECONDARY_SE_QUAD_XY: 563198.34000 5066374.57800
SECONDARY_SW_QUAD_XY: 558336.93600 5066327.09400
RMSE_XY: 1.90000
IMAGE_SOURCE: BLACK AND WHITE FILM
SOURCE_IMAGE_ID: NAPP 9123 270
SOURCE_IMAGE_DATE: 1997 8 3
SOURCE_DEM_DATE: 1998 07 23
AGENCY: WESTERN MAPPING CENTER (WMC)
PRODUCER: MID-CONTINENT MAPPING CENTER (MCMC)
PRODUCTION_SYSTEM: DV2.6.3 10/9OV2.4 5/95
COMPRESSION: UNDEFINED
STANDARD_VERSION: 1996 12
METADATA_DATE: 1998 12 7
DATA_FILE_SIZE: 42294528
BYTE_COUNT: 5568
