FILENAME: O4510419.NWS.941618.tif
QUADRANGLE_NAME: CHALK BUTTES
QUADRANT: NW
WEST_LONGITUDE: -104 45 0.00000
EAST_LONGITUDE: -104 41 15.00000
NORTH_LATITUDE: 45 45 0.00000
SOUTH_LATITUDE: 45 41 15.00000
PRODUCTION_DATE: 1998 11 16
RASTER_ORDER: LEFT_RIGHT/TOP_BOTTOM
BAND_ORGANIZATION: SINGLE FILE
BAND_CONTENT: BLACK&WHITE
BAND_CONTENT: UNDEFINED
BAND_CONTENT: UNDEFINED
BITS_PER_PIXEL: 8
SAMPLES_AND_LINES: 5528 7565
HORIZONTAL_DATUM: NAD83
HORIZONTAL_COORDINATE_SYSTEM: UTM
COORDINATE_ZONE: 13
HORIZONTAL_UNITS: METERS
HORIZONTAL_RESOLUTION: 1.00000
SECONDARY_HORIZONTAL_DATUM: NAD27
XY_ORIGIN: 519104.00000 5066620.00000
SECONDARY_XY_ORIGIN: 519144.69300 5066402.69000
NATION: US
STATE: MT
NW_QUAD_CORNER_XY: 519445.07400 5066301.77600
NE_QUAD_CORNER_XY: 524306.34200 5066318.86900
SE_QUAD_CORNERY_XY: 524333.45600 5059375.03600
SW_QUAD_CORNER_XY: 519466.76500 5059357.94200
SECONDARY_NW_QUAD_XY: 519445.65800 5066083.98000
SECONDARY_NE_QUAD_XY: 524307.07100 5066101.07300
SECONDARY_SE_QUAD_XY: 524334.18500 5059157.28600
SECONDARY_SW_QUAD_XY: 519467.34900 5059140.19200
RMSE_XY: 2.60000
IMAGE_SOURCE: BLACK AND WHITE FILM
SOURCE_IMAGE_ID: NAPP 9102 9
SOURCE_IMAGE_DATE: 1996 7 12
SOURCE_DEM_DATE: 1998 07 23
AGENCY: WESTERN MAPPING CENTER (WMC)
PRODUCER: MID-CONTINENT MAPPING CENTER (MCMC)
PRODUCTION_SYSTEM: DV2.6.3 10/9OV2.4 5/95
COMPRESSION: UNDEFINED
STANDARD_VERSION: 1996 12
METADATA_DATE: 1998 12 4
DATA_FILE_SIZE: 41824848
BYTE_COUNT: 5528
