FILENAME: O4510421.NWS.1167354.tif
QUADRANGLE_NAME: TAYLOR HILLS
QUADRANT: NW
WEST_LONGITUDE: -104 30 0.00000
EAST_LONGITUDE: -104 26 15.00000
NORTH_LATITUDE: 45 45 0.00000
SOUTH_LATITUDE: 45 41 15.00000
PRODUCTION_DATE: 2001 11 19
RASTER_ORDER: LEFT_RIGHT/TOP_BOTTOM
BAND_ORGANIZATION: SINGLE FILE
BAND_CONTENT: BLACK&WHITE
BAND_CONTENT: UNDEFINED
BAND_CONTENT: UNDEFINED
BITS_PER_PIXEL: 8
SAMPLES_AND_LINES: 5552 7580
HORIZONTAL_DATUM: NAD83
HORIZONTAL_COORDINATE_SYSTEM: UTM
COORDINATE_ZONE: 13
HORIZONTAL_UNITS: METERS
HORIZONTAL_RESOLUTION: 1.00000
SECONDARY_HORIZONTAL_DATUM: NAD27
XY_ORIGIN: 538550.00000 5066726.00000
SECONDARY_XY_ORIGIN: 538590.54700 5066508.76000
NATION: US
STATE: MT
NW_QUAD_CORNER_XY: 538890.13900 5066392.93900
NE_QUAD_CORNER_XY: 543751.40300 5066425.22700
SE_QUAD_CORNERY_XY: 543800.21000 5059481.39900
SW_QUAD_CORNER_XY: 538933.52300 5059449.11000
SECONDARY_NW_QUAD_XY: 538891.30600 5066175.14600
SECONDARY_NE_QUAD_XY: 543752.71600 5066207.43500
SECONDARY_SE_QUAD_XY: 543801.52200 5059263.65300
SECONDARY_SW_QUAD_XY: 538934.68900 5059231.36300
RMSE_XY: 2.30000
IMAGE_SOURCE: BLACK AND WHITE FILM
SOURCE_IMAGE_ID: NAPP 10724 174
SOURCE_IMAGE_DATE: 1997 8 30
SOURCE_DEM_DATE: 1972 00 00
AGENCY: ROCKY MOUNTAIN MAPPING CENTER (RMMC)
PRODUCER: ROCKY MOUNTAIN MAPPING CENTER (RMMC)
PRODUCTION_SYSTEM: DV2.6.4 1/00 OV2.6 6/00
COMPRESSION: UNDEFINED
STANDARD_VERSION: 1996 12
METADATA_DATE: 2001 11 19
DATA_FILE_SIZE: 42089712
BYTE_COUNT: 5552
