FILENAME: O4510422.SWS.941644.tif
QUADRANGLE_NAME: BELLTOWER
QUADRANT: SW
WEST_LONGITUDE: -104 22 30.00000
EAST_LONGITUDE: -104 18 45.00000
NORTH_LATITUDE: 45 41 15.00000
SOUTH_LATITUDE: 45 37 30.00000
PRODUCTION_DATE: 1998 11 17
RASTER_ORDER: LEFT_RIGHT/TOP_BOTTOM
BAND_ORGANIZATION: SINGLE FILE
BAND_CONTENT: BLACK&WHITE
BAND_CONTENT: UNDEFINED
BAND_CONTENT: UNDEFINED
BITS_PER_PIXEL: 8
SAMPLES_AND_LINES: 5568 7587
HORIZONTAL_DATUM: NAD83
HORIZONTAL_COORDINATE_SYSTEM: UTM
COORDINATE_ZONE: 13
HORIZONTAL_UNITS: METERS
HORIZONTAL_RESOLUTION: 1.00000
SECONDARY_HORIZONTAL_DATUM: NAD27
XY_ORIGIN: 548327.00000 5059858.00000
SECONDARY_XY_ORIGIN: 548367.58700 5059640.91300
NATION: US
STATE: MT
NW_QUAD_CORNER_XY: 548666.89500 5059517.48700
NE_QUAD_CORNER_XY: 553533.58000 5059557.37400
SE_QUAD_CORNERY_XY: 553593.16900 5052613.62600
SW_QUAD_CORNER_XY: 548721.06700 5052573.73700
SECONDARY_NW_QUAD_XY: 548668.35400 5059299.74200
SECONDARY_NE_QUAD_XY: 553535.18400 5059339.63000
SECONDARY_SE_QUAD_XY: 553594.77300 5052395.92900
SECONDARY_SW_QUAD_XY: 548722.52500 5052356.03900
RMSE_XY: 1.80000
IMAGE_SOURCE: BLACK AND WHITE FILM
SOURCE_IMAGE_ID: NAPP 10724 82
SOURCE_IMAGE_DATE: 1997 8 30
SOURCE_DEM_DATE: 1998 07 23
AGENCY: WESTERN MAPPING CENTER (WMC)
PRODUCER: MID-CONTINENT MAPPING CENTER (MCMC)
PRODUCTION_SYSTEM: DV2.6.3 10/9OV2.4 5/95
COMPRESSION: UNDEFINED
STANDARD_VERSION: 1996 12
METADATA_DATE: 1998 12 3
DATA_FILE_SIZE: 42249984
BYTE_COUNT: 5568
