FILENAME: O4510422.NES.941641.tif
QUADRANGLE_NAME: BELLTOWER
QUADRANT: NE
WEST_LONGITUDE: -104 18 45.00000
EAST_LONGITUDE: -104 15 0.00000
NORTH_LATITUDE: 45 45 0.00000
SOUTH_LATITUDE: 45 41 15.00000
PRODUCTION_DATE: 1998 11 17
RASTER_ORDER: LEFT_RIGHT/TOP_BOTTOM
BAND_ORGANIZATION: SINGLE FILE
BAND_CONTENT: BLACK&WHITE
BAND_CONTENT: UNDEFINED
BAND_CONTENT: UNDEFINED
BITS_PER_PIXEL: 8
SAMPLES_AND_LINES: 5568 7591
HORIZONTAL_DATUM: NAD83
HORIZONTAL_COORDINATE_SYSTEM: UTM
COORDINATE_ZONE: 13
HORIZONTAL_UNITS: METERS
HORIZONTAL_RESOLUTION: 1.00000
SECONDARY_HORIZONTAL_DATUM: NAD27
XY_ORIGIN: 553134.00000 5066846.00000
SECONDARY_XY_ORIGIN: 553174.00000 5066629.00000
NATION: US
STATE: MT
NW_QUAD_CORNER_XY: 553473.92700 5066501.19800
NE_QUAD_CORNER_XY: 558335.18600 5066544.88200
SE_QUAD_CORNERY_XY: 558400.26300 5059601.06100
SW_QUAD_CORNER_XY: 553533.58000 5059557.37400
SECONDARY_NW_QUAD_XY: 553475.53100 5066283.40800
SECONDARY_NE_QUAD_XY: 558336.93600 5066327.09400
SECONDARY_SE_QUAD_XY: 558402.01300 5059383.31800
SECONDARY_SW_QUAD_XY: 553535.18400 5059339.63000
RMSE_XY: 1.30000
IMAGE_SOURCE: BLACK AND WHITE FILM
SOURCE_IMAGE_ID: NAPP 10724 29
SOURCE_IMAGE_DATE: 1997 8 30
SOURCE_DEM_DATE: 1998 07 23
AGENCY: WESTERN MAPPING CENTER (WMC)
PRODUCER: MID-CONTINENT MAPPING CENTER (MCMC)
PRODUCTION_SYSTEM: DV2.6.3 10/9OV2.4 5/95
COMPRESSION: UNDEFINED
STANDARD_VERSION: 1996 12
METADATA_DATE: 1998 12 3
DATA_FILE_SIZE: 42272256
BYTE_COUNT: 5568
