FILENAME: O4510427.SES.1167367.tif
QUADRANGLE_NAME: DUTCHMAN CREEK
QUADRANT: SE
WEST_LONGITUDE: -104 41 15.00000
EAST_LONGITUDE: -104 37 30.00000
NORTH_LATITUDE: 45 33 45.00000
SOUTH_LATITUDE: 45 30 0.00000
PRODUCTION_DATE: 2001 11 19
RASTER_ORDER: LEFT_RIGHT/TOP_BOTTOM
BAND_ORGANIZATION: SINGLE FILE
BAND_CONTENT: BLACK&WHITE
BAND_CONTENT: UNDEFINED
BAND_CONTENT: UNDEFINED
BITS_PER_PIXEL: 8
SAMPLES_AND_LINES: 5554 7568
HORIZONTAL_DATUM: NAD83
HORIZONTAL_COORDINATE_SYSTEM: UTM
COORDINATE_ZONE: 13
HORIZONTAL_UNITS: METERS
HORIZONTAL_RESOLUTION: 1.00000
SECONDARY_HORIZONTAL_DATUM: NAD27
XY_ORIGIN: 524046.00000 5045809.00000
SECONDARY_XY_ORIGIN: 524086.95300 5045592.19700
NATION: US
STATE: MT
NW_QUAD_CORNER_XY: 524387.59700 5045487.59800
NE_QUAD_CORNER_XY: 529265.11500 5045508.49300
SE_QUAD_CORNERY_XY: 529297.54700 5038564.88900
SW_QUAD_CORNER_XY: 524414.62300 5038543.99300
SECONDARY_NW_QUAD_XY: 524388.32500 5045269.94300
SECONDARY_NE_QUAD_XY: 529265.98900 5045290.83800
SECONDARY_SE_QUAD_XY: 529298.42100 5038347.28200
SECONDARY_SW_QUAD_XY: 524415.35200 5038326.38700
RMSE_XY: 0.90000
IMAGE_SOURCE: BLACK AND WHITE FILM
SOURCE_IMAGE_ID: NAPP 9080 18
SOURCE_IMAGE_DATE: 1996 6 12
SOURCE_DEM_DATE: 1972 00 00
AGENCY: ROCKY MOUNTAIN MAPPING CENTER (RMMC)
PRODUCER: ROCKY MOUNTAIN MAPPING CENTER (RMMC)
PRODUCTION_SYSTEM: DV2.6.4 1/00 OV2.6 6/00
COMPRESSION: UNDEFINED
STANDARD_VERSION: 1996 12
METADATA_DATE: 2001 11 19
DATA_FILE_SIZE: 42038226
BYTE_COUNT: 5554
