FILENAME: O4510428.SWS.1167372.tif
QUADRANGLE_NAME: IKEY CREEK
QUADRANT: SW
WEST_LONGITUDE: -104 37 30.00000
EAST_LONGITUDE: -104 33 45.00000
NORTH_LATITUDE: 45 33 45.00000
SOUTH_LATITUDE: 45 30 0.00000
PRODUCTION_DATE: 2001 11 19
RASTER_ORDER: LEFT_RIGHT/TOP_BOTTOM
BAND_ORGANIZATION: SINGLE FILE
BAND_CONTENT: BLACK&WHITE
BAND_CONTENT: UNDEFINED
BAND_CONTENT: UNDEFINED
BITS_PER_PIXEL: 8
SAMPLES_AND_LINES: 5558 7572
HORIZONTAL_DATUM: NAD83
HORIZONTAL_COORDINATE_SYSTEM: UTM
COORDINATE_ZONE: 13
HORIZONTAL_UNITS: METERS
HORIZONTAL_RESOLUTION: 1.00000
SECONDARY_HORIZONTAL_DATUM: NAD27
XY_ORIGIN: 528924.00000 5045834.00000
SECONDARY_XY_ORIGIN: 528964.91000 5045617.21300
NATION: US
STATE: MT
NW_QUAD_CORNER_XY: 529265.11500 5045508.49300
NE_QUAD_CORNER_XY: 534142.63200 5045533.18600
SE_QUAD_CORNERY_XY: 534180.47000 5038589.58300
SW_QUAD_CORNER_XY: 529297.54700 5038564.88900
SECONDARY_NW_QUAD_XY: 529265.98900 5045290.83800
SECONDARY_NE_QUAD_XY: 534143.65300 5045315.53200
SECONDARY_SE_QUAD_XY: 534181.49000 5038371.97800
SECONDARY_SW_QUAD_XY: 529298.42100 5038347.28200
RMSE_XY: 1.30000
IMAGE_SOURCE: BLACK AND WHITE FILM
SOURCE_IMAGE_ID: NAPP 9105 26
SOURCE_IMAGE_DATE: 1996 8 1
SOURCE_DEM_DATE: 1972 00 00
AGENCY: ROCKY MOUNTAIN MAPPING CENTER (RMMC)
PRODUCER: ROCKY MOUNTAIN MAPPING CENTER (RMMC)
PRODUCTION_SYSTEM: DV2.6.4 1/00 OV2.6 6/00
COMPRESSION: UNDEFINED
STANDARD_VERSION: 1996 12
METADATA_DATE: 2001 11 19
DATA_FILE_SIZE: 42090734
BYTE_COUNT: 5558
