FILENAME: O4510429.NES.1167373.tif
QUADRANGLE_NAME: SCHOOL SECTION CREEK
QUADRANT: NE
WEST_LONGITUDE: -104 26 15.00000
EAST_LONGITUDE: -104 22 30.00000
NORTH_LATITUDE: 45 37 30.00000
SOUTH_LATITUDE: 45 33 45.00000
PRODUCTION_DATE: 2001 11 19
RASTER_ORDER: LEFT_RIGHT/TOP_BOTTOM
BAND_ORGANIZATION: SINGLE FILE
BAND_CONTENT: BLACK&WHITE
BAND_CONTENT: UNDEFINED
BAND_CONTENT: UNDEFINED
BITS_PER_PIXEL: 8
SAMPLES_AND_LINES: 5568 7584
HORIZONTAL_DATUM: NAD83
HORIZONTAL_COORDINATE_SYSTEM: UTM
COORDINATE_ZONE: 13
HORIZONTAL_UNITS: METERS
HORIZONTAL_RESOLUTION: 1.00000
SECONDARY_HORIZONTAL_DATUM: NAD27
XY_ORIGIN: 543509.00000 5052875.00000
SECONDARY_XY_ORIGIN: 543549.00000 5052659.00000
NATION: US
STATE: MT
NW_QUAD_CORNER_XY: 543848.96400 5052537.64700
NE_QUAD_CORNER_XY: 548721.06700 5052573.73700
SE_QUAD_CORNERY_XY: 548775.18000 5045630.06200
SW_QUAD_CORNER_XY: 543897.66500 5045593.97100
SECONDARY_NW_QUAD_XY: 543850.27600 5052319.94800
SECONDARY_NE_QUAD_XY: 548722.52500 5052356.03900
SECONDARY_SE_QUAD_XY: 548776.63800 5045412.41100
SECONDARY_SW_QUAD_XY: 543898.97700 5045376.31900
RMSE_XY: 1.20000
IMAGE_SOURCE: BLACK AND WHITE FILM
SOURCE_IMAGE_ID: NAPP 10724 123
SOURCE_IMAGE_DATE: 1997 8 30
SOURCE_DEM_DATE: 1972 00 00
AGENCY: ROCKY MOUNTAIN MAPPING CENTER (RMMC)
PRODUCER: ROCKY MOUNTAIN MAPPING CENTER (RMMC)
PRODUCTION_SYSTEM: DV2.6.4 1/00 OV2.6 6/00
COMPRESSION: UNDEFINED
STANDARD_VERSION: 1996 12
METADATA_DATE: 2001 11 19
DATA_FILE_SIZE: 42233280
BYTE_COUNT: 5568
