FILENAME: O4510434.SWS.1167384.tif
QUADRANGLE_NAME: KNUDSON DRAW NE
QUADRANT: SW
WEST_LONGITUDE: -104 52 30.00000
EAST_LONGITUDE: -104 48 45.00000
NORTH_LATITUDE: 45 26 15.00000
SOUTH_LATITUDE: 45 22 30.00000
PRODUCTION_DATE: 2001 11 16
RASTER_ORDER: LEFT_RIGHT/TOP_BOTTOM
BAND_ORGANIZATION: SINGLE FILE
BAND_CONTENT: BLACK&WHITE
BAND_CONTENT: UNDEFINED
BAND_CONTENT: UNDEFINED
BITS_PER_PIXEL: 8
SAMPLES_AND_LINES: 5548 7557
HORIZONTAL_DATUM: NAD83
HORIZONTAL_COORDINATE_SYSTEM: UTM
COORDINATE_ZONE: 13
HORIZONTAL_UNITS: METERS
HORIZONTAL_RESOLUTION: 1.00000
SECONDARY_HORIZONTAL_DATUM: NAD27
XY_ORIGIN: 509435.00000 5031871.00000
SECONDARY_XY_ORIGIN: 509476.34700 5031654.48400
NATION: US
STATE: MT
NW_QUAD_CORNER_XY: 509776.64900 5031560.57300
NE_QUAD_CORNER_XY: 514664.97300 5031570.07100
SE_QUAD_CORNERY_XY: 514681.15400 5024626.61800
SW_QUAD_CORNER_XY: 509787.43600 5024617.11900
SECONDARY_NW_QUAD_XY: 509776.94000 5031343.01400
SECONDARY_NE_QUAD_XY: 514665.41000 5031352.51200
SECONDARY_SE_QUAD_XY: 514681.59100 5024409.10900
SECONDARY_SW_QUAD_XY: 509787.72700 5024399.61100
RMSE_XY: 1.60000
IMAGE_SOURCE: BLACK AND WHITE FILM
SOURCE_IMAGE_ID: NAPP 10762 62
SOURCE_IMAGE_DATE: 1997 9 5
SOURCE_DEM_DATE: 1973 00 00
AGENCY: ROCKY MOUNTAIN MAPPING CENTER (RMMC)
PRODUCER: ROCKY MOUNTAIN MAPPING CENTER (RMMC)
PRODUCTION_SYSTEM: DV2.6.4 1/00 OV2.6 6/00
COMPRESSION: UNDEFINED
STANDARD_VERSION: 1996 12
METADATA_DATE: 2001 11 16
DATA_FILE_SIZE: 41931784
BYTE_COUNT: 5548
