FILENAME: O4510435.NWS.1167386.tif
QUADRANGLE_NAME: WHITETAIL CREEK
QUADRANT: NW
WEST_LONGITUDE: -104 45 0.00000
EAST_LONGITUDE: -104 41 15.00000
NORTH_LATITUDE: 45 30 0.00000
SOUTH_LATITUDE: 45 26 15.00000
PRODUCTION_DATE: 2001 11 16
RASTER_ORDER: LEFT_RIGHT/TOP_BOTTOM
BAND_ORGANIZATION: SINGLE FILE
BAND_CONTENT: BLACK&WHITE
BAND_CONTENT: UNDEFINED
BAND_CONTENT: UNDEFINED
BITS_PER_PIXEL: 8
SAMPLES_AND_LINES: 5554 7565
HORIZONTAL_DATUM: NAD83
HORIZONTAL_COORDINATE_SYSTEM: UTM
COORDINATE_ZONE: 13
HORIZONTAL_UNITS: METERS
HORIZONTAL_RESOLUTION: 1.00000
SECONDARY_HORIZONTAL_DATUM: NAD27
XY_ORIGIN: 519190.00000 5038845.00000
SECONDARY_XY_ORIGIN: 519231.00000 5038629.00000
NATION: US
STATE: MT
NW_QUAD_CORNER_XY: 519531.69900 5038526.89700
NE_QUAD_CORNER_XY: 524414.62300 5038543.99300
SE_QUAD_CORNERY_XY: 524441.62100 5031600.46500
SW_QUAD_CORNER_XY: 519553.29700 5031583.36800
SECONDARY_NW_QUAD_XY: 519532.28200 5038309.29000
SECONDARY_NE_QUAD_XY: 524415.35200 5038326.38700
SECONDARY_SE_QUAD_XY: 524442.34900 5031382.90700
SECONDARY_SW_QUAD_XY: 519553.88000 5031365.81000
RMSE_XY: 1.00000
IMAGE_SOURCE: BLACK AND WHITE FILM
SOURCE_IMAGE_ID: NAPP 9102 17
SOURCE_IMAGE_DATE: 1996 8 1
SOURCE_DEM_DATE: 1973 00 00
AGENCY: ROCKY MOUNTAIN MAPPING CENTER (RMMC)
PRODUCER: ROCKY MOUNTAIN MAPPING CENTER (RMMC)
PRODUCTION_SYSTEM: DV2.6.4 1/00 OV2.6 6/00
COMPRESSION: UNDEFINED
STANDARD_VERSION: 1996 12
METADATA_DATE: 2001 11 16
DATA_FILE_SIZE: 42021564
BYTE_COUNT: 5554
