FILENAME: O4510443.NES.1167423.tif
QUADRANGLE_NAME: TIP TOP BUTTE
QUADRANT: NE
WEST_LONGITUDE: -104 41 15.00000
EAST_LONGITUDE: -104 37 30.00000
NORTH_LATITUDE: 45 22 30.00000
SOUTH_LATITUDE: 45 18 45.00000
PRODUCTION_DATE: 2001 11 16
RASTER_ORDER: LEFT_RIGHT/TOP_BOTTOM
BAND_ORGANIZATION: SINGLE FILE
BAND_CONTENT: BLACK&WHITE
BAND_CONTENT: UNDEFINED
BAND_CONTENT: UNDEFINED
BITS_PER_PIXEL: 8
SAMPLES_AND_LINES: 5570 7569
HORIZONTAL_DATUM: NAD83
HORIZONTAL_COORDINATE_SYSTEM: UTM
COORDINATE_ZONE: 13
HORIZONTAL_UNITS: METERS
HORIZONTAL_RESOLUTION: 1.00000
SECONDARY_HORIZONTAL_DATUM: NAD27
XY_ORIGIN: 524127.00000 5024979.00000
SECONDARY_XY_ORIGIN: 524168.26500 5024762.73900
NATION: US
STATE: MT
NW_QUAD_CORNER_XY: 524468.58900 5024657.01200
NE_QUAD_CORNER_XY: 529362.30600 5024677.90900
SE_QUAD_CORNERY_XY: 529394.63200 5017734.53300
SW_QUAD_CORNER_XY: 524495.52700 5017713.63600
SECONDARY_NW_QUAD_XY: 524469.31700 5024439.50500
SECONDARY_NE_QUAD_XY: 529363.17900 5024460.40200
SECONDARY_SE_QUAD_XY: 529395.50600 5017517.07700
SECONDARY_SW_QUAD_XY: 524496.25500 5017496.17900
RMSE_XY: 1.60000
IMAGE_SOURCE: BLACK AND WHITE FILM
SOURCE_IMAGE_ID: NAPP 9080 12
SOURCE_IMAGE_DATE: 1996 6 12
SOURCE_DEM_DATE: 1973 00 00
AGENCY: ROCKY MOUNTAIN MAPPING CENTER (RMMC)
PRODUCER: ROCKY MOUNTAIN MAPPING CENTER (RMMC)
PRODUCTION_SYSTEM: DV2.6.4 1/00 OV2.6 6/00
COMPRESSION: UNDEFINED
STANDARD_VERSION: 1996 12
METADATA_DATE: 2001 11 16
DATA_FILE_SIZE: 42164900
BYTE_COUNT: 5570
