FILENAME: O4510445.SWS.1167434.tif
QUADRANGLE_NAME: FINGER BUTTES WEST
QUADRANT: SW
WEST_LONGITUDE: -104 30 0.00000
EAST_LONGITUDE: -104 26 15.00000
NORTH_LATITUDE: 45 18 45.00000
SOUTH_LATITUDE: 45 15 0.00000
PRODUCTION_DATE: 2001 11 16
RASTER_ORDER: LEFT_RIGHT/TOP_BOTTOM
BAND_ORGANIZATION: SINGLE FILE
BAND_CONTENT: BLACK&WHITE
BAND_CONTENT: UNDEFINED
BAND_CONTENT: UNDEFINED
BITS_PER_PIXEL: 8
SAMPLES_AND_LINES: 5590 7580
HORIZONTAL_DATUM: NAD83
HORIZONTAL_COORDINATE_SYSTEM: UTM
COORDINATE_ZONE: 13
HORIZONTAL_UNITS: METERS
HORIZONTAL_RESOLUTION: 1.00000
SECONDARY_HORIZONTAL_DATUM: NAD27
XY_ORIGIN: 538852.00000 5018121.00000
SECONDARY_XY_ORIGIN: 538893.19600 5017904.94000
NATION: US
STATE: MT
NW_QUAD_CORNER_XY: 539192.84100 5017787.72600
NE_QUAD_CORNER_XY: 544091.94500 5017820.02100
SE_QUAD_CORNERY_XY: 544140.38300 5010876.72300
SW_QUAD_CORNER_XY: 539235.89700 5010844.42700
SECONDARY_NW_QUAD_XY: 539194.00600 5017570.27100
SECONDARY_NE_QUAD_XY: 544093.25500 5017602.56800
SECONDARY_SE_QUAD_XY: 544141.69300 5010659.32100
SECONDARY_SW_QUAD_XY: 539237.06100 5010627.02400
RMSE_XY: 1.00000
IMAGE_SOURCE: BLACK AND WHITE FILM
SOURCE_IMAGE_ID: NAPP 10724 160
SOURCE_IMAGE_DATE: 1997 8 30
SOURCE_DEM_DATE: 1972 00 00
AGENCY: ROCKY MOUNTAIN MAPPING CENTER (RMMC)
PRODUCER: ROCKY MOUNTAIN MAPPING CENTER (RMMC)
PRODUCTION_SYSTEM: DV2.6.4 1/00 OV2.6 6/00
COMPRESSION: UNDEFINED
STANDARD_VERSION: 1996 12
METADATA_DATE: 2001 11 16
DATA_FILE_SIZE: 42377790
BYTE_COUNT: 5590
