FILENAME: O4510449.SWS.1167458.tif
QUADRANGLE_NAME: HAMMOND
QUADRANT: SW
WEST_LONGITUDE: -105 0 0.00000
EAST_LONGITUDE: -104 56 15.00000
NORTH_LATITUDE: 45 11 15.00000
SOUTH_LATITUDE: 45 7 30.00000
PRODUCTION_DATE: 2001 11 16
RASTER_ORDER: LEFT_RIGHT/TOP_BOTTOM
BAND_ORGANIZATION: SINGLE FILE
BAND_CONTENT: BLACK&WHITE
BAND_CONTENT: UNDEFINED
BAND_CONTENT: UNDEFINED
BITS_PER_PIXEL: 8
SAMPLES_AND_LINES: 5560 7550
HORIZONTAL_DATUM: NAD83
HORIZONTAL_COORDINATE_SYSTEM: UTM
COORDINATE_ZONE: 13
HORIZONTAL_UNITS: METERS
HORIZONTAL_RESOLUTION: 1.00000
SECONDARY_HORIZONTAL_DATUM: NAD27
XY_ORIGIN: 499657.00000 5004083.00000
SECONDARY_XY_ORIGIN: 499699.00000 5003868.00000
NATION: US
STATE: MT
NW_QUAD_CORNER_XY: 500000.00000 5003779.61700
NE_QUAD_CORNER_XY: 504909.86300 5003781.51700
SE_QUAD_CORNERY_XY: 504915.23400 4996838.36800
SW_QUAD_CORNER_XY: 500000.00000 4996836.46900
SECONDARY_NW_QUAD_XY: 500000.00000 5003562.26300
SECONDARY_NE_QUAD_XY: 504910.00900 5003564.16300
SECONDARY_SE_QUAD_XY: 504915.37900 4996621.06800
SECONDARY_SW_QUAD_XY: 500000.00000 4996619.16800
RMSE_XY: 1.60000
IMAGE_SOURCE: BLACK AND WHITE FILM
SOURCE_IMAGE_ID: NAPP 9117 124
SOURCE_IMAGE_DATE: 1996 8 27
SOURCE_DEM_DATE: 1969 00 00
AGENCY: ROCKY MOUNTAIN MAPPING CENTER (RMMC)
PRODUCER: ROCKY MOUNTAIN MAPPING CENTER (RMMC)
PRODUCTION_SYSTEM: DV2.6.4 1/00 OV2.6 6/00
COMPRESSION: UNDEFINED
STANDARD_VERSION: 1996 12
METADATA_DATE: 2001 11 16
DATA_FILE_SIZE: 41983560
BYTE_COUNT: 5560
