FILENAME: O4510458.SWS.1167499.tif
QUADRANGLE_NAME: HAMMOND SE
QUADRANT: SW
WEST_LONGITUDE: -104 52 30.00000
EAST_LONGITUDE: -104 48 45.00000
NORTH_LATITUDE: 45 3 45.00000
SOUTH_LATITUDE: 45 0 0.00000
PRODUCTION_DATE: 2001 11 15
RASTER_ORDER: LEFT_RIGHT/TOP_BOTTOM
BAND_ORGANIZATION: SINGLE FILE
BAND_CONTENT: BLACK&WHITE
BAND_CONTENT: UNDEFINED
BAND_CONTENT: UNDEFINED
BITS_PER_PIXEL: 8
SAMPLES_AND_LINES: 5581 7557
HORIZONTAL_DATUM: NAD83
HORIZONTAL_COORDINATE_SYSTEM: UTM
COORDINATE_ZONE: 13
HORIZONTAL_UNITS: METERS
HORIZONTAL_RESOLUTION: 1.00000
SECONDARY_HORIZONTAL_DATUM: NAD27
XY_ORIGIN: 509499.00000 4990211.00000
SECONDARY_XY_ORIGIN: 509540.91500 4989995.42600
NATION: US
STATE: MT
NW_QUAD_CORNER_XY: 509841.19500 4989900.99500
NE_QUAD_CORNER_XY: 514761.79300 4989910.49400
SE_QUAD_CORNERY_XY: 514777.86800 4982967.49800
SW_QUAD_CORNER_XY: 509851.91200 4982957.99900
SECONDARY_NW_QUAD_XY: 509841.48600 4989683.75000
SECONDARY_NE_QUAD_XY: 514762.22900 4989693.24900
SECONDARY_SE_QUAD_XY: 514778.30400 4982750.30800
SECONDARY_SW_QUAD_XY: 509852.20300 4982740.80900
RMSE_XY: 2.00000
IMAGE_SOURCE: BLACK AND WHITE FILM
SOURCE_IMAGE_ID: NAPP 10762 74
SOURCE_IMAGE_DATE: 1997 9 5
SOURCE_DEM_DATE: 1969 00 00
AGENCY: ROCKY MOUNTAIN MAPPING CENTER (RMMC)
PRODUCER: ROCKY MOUNTAIN MAPPING CENTER (RMMC)
PRODUCTION_SYSTEM: DV2.6.4 1/00 OV2.6 6/00
COMPRESSION: UNDEFINED
STANDARD_VERSION: 1996 12
METADATA_DATE: 2001 11 15
DATA_FILE_SIZE: 42181198
BYTE_COUNT: 5581
