FILENAME: O4510458.NES.1167496.tif
QUADRANGLE_NAME: HAMMOND SE
QUADRANT: NE
WEST_LONGITUDE: -104 48 45.00000
EAST_LONGITUDE: -104 45 0.00000
NORTH_LATITUDE: 45 7 30.00000
SOUTH_LATITUDE: 45 3 45.00000
PRODUCTION_DATE: 2001 11 15
RASTER_ORDER: LEFT_RIGHT/TOP_BOTTOM
BAND_ORGANIZATION: SINGLE FILE
BAND_CONTENT: BLACK&WHITE
BAND_CONTENT: UNDEFINED
BAND_CONTENT: UNDEFINED
BITS_PER_PIXEL: 8
SAMPLES_AND_LINES: 5581 7561
HORIZONTAL_DATUM: NAD83
HORIZONTAL_COORDINATE_SYSTEM: UTM
COORDINATE_ZONE: 13
HORIZONTAL_UNITS: METERS
HORIZONTAL_RESOLUTION: 1.00000
SECONDARY_HORIZONTAL_DATUM: NAD27
XY_ORIGIN: 514403.00000 4997168.00000
SECONDARY_XY_ORIGIN: 514445.00000 4996953.00000
NATION: US
STATE: MT
NW_QUAD_CORNER_XY: 514745.70100 4996853.56700
NE_QUAD_CORNER_XY: 519660.93400 4996866.86500
SE_QUAD_CORNERY_XY: 519682.39100 4989923.79300
SW_QUAD_CORNER_XY: 514761.79300 4989910.49400
SECONDARY_NW_QUAD_XY: 514746.13700 4996636.26700
SECONDARY_NE_QUAD_XY: 519661.51600 4996649.56600
SECONDARY_SE_QUAD_XY: 519682.97300 4989706.54800
SECONDARY_SW_QUAD_XY: 514762.22900 4989693.24900
RMSE_XY: 1.10000
IMAGE_SOURCE: BLACK AND WHITE FILM
SOURCE_IMAGE_ID: NAPP 9107 104
SOURCE_IMAGE_DATE: 1996 8 7
SOURCE_DEM_DATE: 1969 00 00
AGENCY: ROCKY MOUNTAIN MAPPING CENTER (RMMC)
PRODUCER: ROCKY MOUNTAIN MAPPING CENTER (RMMC)
PRODUCTION_SYSTEM: DV2.6.4 1/00 OV2.6 6/00
COMPRESSION: UNDEFINED
STANDARD_VERSION: 1996 12
METADATA_DATE: 2001 11 15
DATA_FILE_SIZE: 42203522
BYTE_COUNT: 5581
