FILENAME: O4510462.SES.1167533.tif
QUADRANGLE_NAME: SEVENMILE CREEK
QUADRANT: SE
WEST_LONGITUDE: -104 18 45.00000
EAST_LONGITUDE: -104 15 0.00000
NORTH_LATITUDE: 45 3 45.00000
SOUTH_LATITUDE: 45 0 0.00000
PRODUCTION_DATE: 2001 11 15
RASTER_ORDER: LEFT_RIGHT/TOP_BOTTOM
BAND_ORGANIZATION: SINGLE FILE
BAND_CONTENT: BLACK&WHITE
BAND_CONTENT: UNDEFINED
BAND_CONTENT: UNDEFINED
BITS_PER_PIXEL: 8
SAMPLES_AND_LINES: 5627 7592
HORIZONTAL_DATUM: NAD83
HORIZONTAL_COORDINATE_SYSTEM: UTM
COORDINATE_ZONE: 13
HORIZONTAL_UNITS: METERS
HORIZONTAL_RESOLUTION: 1.00000
SECONDARY_HORIZONTAL_DATUM: NAD27
XY_ORIGIN: 553786.00000 4990468.00000
SECONDARY_XY_ORIGIN: 553827.00000 4990253.00000
NATION: US
STATE: MT
NW_QUAD_CORNER_XY: 554126.57400 4990123.27500
NE_QUAD_CORNER_XY: 559047.17200 4990166.97300
SE_QUAD_CORNERY_XY: 559111.47500 4983223.97600
SW_QUAD_CORNER_XY: 554185.51800 4983180.27900
SECONDARY_NW_QUAD_XY: 554128.17400 4989906.03600
SECONDARY_NE_QUAD_XY: 559048.91700 4989949.73500
SECONDARY_SE_QUAD_XY: 559113.22000 4983006.79400
SECONDARY_SW_QUAD_XY: 554187.11800 4982963.09500
RMSE_XY: 1.60000
IMAGE_SOURCE: BLACK AND WHITE FILM
SOURCE_IMAGE_ID: NAPP 10724 51
SOURCE_IMAGE_DATE: 1997 8 30
SOURCE_DEM_DATE: 1972 00 00
AGENCY: ROCKY MOUNTAIN MAPPING CENTER (RMMC)
PRODUCER: ROCKY MOUNTAIN MAPPING CENTER (RMMC)
PRODUCTION_SYSTEM: DV2.6.4 1/00 OV2.6 6/00
COMPRESSION: UNDEFINED
STANDARD_VERSION: 1996 12
METADATA_DATE: 2001 11 15
DATA_FILE_SIZE: 42725811
BYTE_COUNT: 5627
