FILENAME: O4411305.SES.47296.tif
QUADRANGLE_NAME: LEMHI PASS
QUADRANT: SE
WEST_LONGITUDE: -113 26 15.00000
EAST_LONGITUDE: -113 22 30.00000
NORTH_LATITUDE: 44 56 15.00000
SOUTH_LATITUDE: 44 52 30.00000
PRODUCTION_DATE: 1995 10 12
RASTER_ORDER: LEFT_RIGHT/TOP_BOTTOM
BAND_ORGANIZATION: SINGLE FILE
BAND_CONTENT: BLACK&WHITE
BAND_CONTENT: UNDEFINED
BAND_CONTENT: UNDEFINED
BITS_PER_PIXEL: 8
SAMPLES_AND_LINES: 5850 7740
HORIZONTAL_DATUM: NAD83
HORIZONTAL_COORDINATE_SYSTEM: UTM
COORDINATE_ZONE: 12
HORIZONTAL_UNITS: METERS
HORIZONTAL_RESOLUTION: 1.00000
SECONDARY_HORIZONTAL_DATUM: NAD27
XY_ORIGIN: 307080.00000 4979220.00000
SECONDARY_XY_ORIGIN: 307144.00500 4979009.03500
NATION: US
STATE: MT
NW_QUAD_CORNER_XY: 307678.76300 4978897.90700
NE_QUAD_CORNER_XY: 312610.08700 4978751.53800
SE_QUAD_CORNERY_XY: 312406.80200 4971808.66800
SW_QUAD_CORNER_XY: 307470.12300 4971955.03500
SECONDARY_NW_QUAD_XY: 307673.09400 4978680.85700
SECONDARY_NE_QUAD_XY: 312604.56300 4978534.48400
SECONDARY_SE_QUAD_XY: 312401.28000 4971591.67000
SECONDARY_SW_QUAD_XY: 307464.45500 4971738.04200
RMSE_XY: 1.20000
IMAGE_SOURCE: BLACK AND WHITE FILM
SOURCE_IMAGE_ID: NAPP 4938 012
SOURCE_IMAGE_DATE: 1992 8 27
SOURCE_DEM_DATE: 1995 10 12
AGENCY: WESTERN MAPPING CENTER (WMC)
PRODUCER: Analytical Surveys
PRODUCTION_SYSTEM: ORBIT OR_RECTIFY V.5.2
COMPRESSION: UNDEFINED
STANDARD_VERSION: 1996 12
METADATA_DATE: 1997 7 10
DATA_FILE_SIZE: 45284850
BYTE_COUNT: 5850
