FILENAME: O4411305.NES.47294.tif
QUADRANGLE_NAME: LEMHI PASS
QUADRANT: NE
WEST_LONGITUDE: -113 26 15.00000
EAST_LONGITUDE: -113 22 30.00000
NORTH_LATITUDE: 45 0 0.00000
SOUTH_LATITUDE: 44 56 15.00000
PRODUCTION_DATE: 1995 10 12
RASTER_ORDER: LEFT_RIGHT/TOP_BOTTOM
BAND_ORGANIZATION: SINGLE FILE
BAND_CONTENT: BLACK&WHITE
BAND_CONTENT: UNDEFINED
BAND_CONTENT: UNDEFINED
BITS_PER_PIXEL: 8
SAMPLES_AND_LINES: 5850 7710
HORIZONTAL_DATUM: NAD83
HORIZONTAL_COORDINATE_SYSTEM: UTM
COORDINATE_ZONE: 12
HORIZONTAL_UNITS: METERS
HORIZONTAL_RESOLUTION: 1.00000
SECONDARY_HORIZONTAL_DATUM: NAD27
XY_ORIGIN: 307290.00000 4986150.00000
SECONDARY_XY_ORIGIN: 307354.02100 4985938.90200
NATION: US
STATE: MT
NW_QUAD_CORNER_XY: 307887.63300 4985840.84100
NE_QUAD_CORNER_XY: 312813.59500 4985694.47200
SE_QUAD_CORNERY_XY: 312610.08700 4978751.53800
SW_QUAD_CORNER_XY: 307678.76300 4978897.90700
SECONDARY_NW_QUAD_XY: 307881.96200 4985623.73600
SECONDARY_NE_QUAD_XY: 312808.06900 4985477.36200
SECONDARY_SE_QUAD_XY: 312604.56300 4978534.48400
SECONDARY_SW_QUAD_XY: 307673.09400 4978680.85700
RMSE_XY: 1.30000
IMAGE_SOURCE: BLACK AND WHITE FILM
SOURCE_IMAGE_ID: NAPP 4938 010
SOURCE_IMAGE_DATE: 1992 8 27
SOURCE_DEM_DATE: 1995 10 12
AGENCY: WESTERN MAPPING CENTER (WMC)
PRODUCER: Analytical Surveys
PRODUCTION_SYSTEM: ORBIT OR_RECTIFY V.5.2
COMPRESSION: UNDEFINED
STANDARD_VERSION: 1996 12
METADATA_DATE: 1997 7 10
DATA_FILE_SIZE: 45109350
BYTE_COUNT: 5850
