FILENAME: O4411306.NWS.1076529.tif
QUADRANGLE_NAME: EVERSON CREEK
QUADRANT: NW
WEST_LONGITUDE: -113 22 30.00000
EAST_LONGITUDE: -113 18 45.00000
NORTH_LATITUDE: 45 0 0.00000
SOUTH_LATITUDE: 44 56 15.00000
PRODUCTION_DATE: 2000 4 21
RASTER_ORDER: LEFT_RIGHT/TOP_BOTTOM
BAND_ORGANIZATION: SINGLE FILE
BAND_CONTENT: BLACK&WHITE
BAND_CONTENT: UNDEFINED
BAND_CONTENT: UNDEFINED
BITS_PER_PIXEL: 8
SAMPLES_AND_LINES: 5802 7695
HORIZONTAL_DATUM: NAD83
HORIZONTAL_COORDINATE_SYSTEM: UTM
COORDINATE_ZONE: 12
HORIZONTAL_UNITS: METERS
HORIZONTAL_RESOLUTION: 1.00000
SECONDARY_HORIZONTAL_DATUM: NAD27
XY_ORIGIN: 312239.00000 4985995.00000
SECONDARY_XY_ORIGIN: 312303.03600 4985784.02800
NATION: US
NATION: "SCIENCE
STATE: MT
NW_QUAD_CORNER_XY: 312813.59500 4985694.47100
NE_QUAD_CORNER_XY: 317739.55600 4985551.90800
SE_QUAD_CORNERY_XY: 317541.40900 4978608.97500
SW_QUAD_CORNER_XY: 312610.08700 4978751.53800
SECONDARY_NW_QUAD_XY: 312808.06900 4985477.36100
SECONDARY_NE_QUAD_XY: 317734.17600 4985334.79400
SECONDARY_SE_QUAD_XY: 317536.03100 4978391.91700
SECONDARY_SW_QUAD_XY: 312604.56300 4978534.48400
RMSE_XY: 1.30000
IMAGE_SOURCE: BLACK AND WHITE FILM
SOURCE_IMAGE_ID: NAPP 8391 109
SOURCE_IMAGE_DATE: 1995 08 01
SOURCE_IMAGE_ID: NAPP 8391 110
SOURCE_IMAGE_DATE: 1995 08 01
SOURCE_IMAGE_ID: NAPP 8391 108
SOURCE_IMAGE_DATE: 1995 08 01
SOURCE_IMAGE_ID: NAPP 8391 124
SOURCE_IMAGE_DATE: 1995 08 01
SOURCE_DEM_DATE: 1965 00 00
AGENCY: WESTERN MAPPING CENTER (WMC)
PRODUCER: UNDEFINED
PRODUCTION_SYSTEM: GIS/MAGIC
COMPRESSION: UNDEFINED
STANDARD_VERSION: 1996 12
METADATA_DATE: 2000 05 19
DATA_FILE_SIZE: 44652192
BYTE_COUNT: 5802
