FILENAME: O4411306.NES.1076528.tif
QUADRANGLE_NAME: EVERSON CREEK
QUADRANT: NE
WEST_LONGITUDE: -113 18 45.00000
EAST_LONGITUDE: -113 15 0.00000
NORTH_LATITUDE: 45 0 0.00000
SOUTH_LATITUDE: 44 56 15.00000
PRODUCTION_DATE: 2000 4 24
RASTER_ORDER: LEFT_RIGHT/TOP_BOTTOM
BAND_ORGANIZATION: SINGLE FILE
BAND_CONTENT: BLACK&WHITE
BAND_CONTENT: UNDEFINED
BAND_CONTENT: UNDEFINED
BITS_PER_PIXEL: 8
SAMPLES_AND_LINES: 5796 7691
HORIZONTAL_DATUM: NAD83
HORIZONTAL_COORDINATE_SYSTEM: UTM
COORDINATE_ZONE: 12
HORIZONTAL_UNITS: METERS
HORIZONTAL_RESOLUTION: 1.00000
SECONDARY_HORIZONTAL_DATUM: NAD27
XY_ORIGIN: 317171.00000 4985852.00000
SECONDARY_XY_ORIGIN: 317234.97000 4985641.11800
NATION: US
NATION: "SCIENCE
STATE: MT
NW_QUAD_CORNER_XY: 317739.55600 4985551.90800
NE_QUAD_CORNER_XY: 322665.51700 4985413.15000
SE_QUAD_CORNERY_XY: 322472.73100 4978470.21800
SW_QUAD_CORNER_XY: 317541.40900 4978608.97500
SECONDARY_NW_QUAD_XY: 317734.17600 4985334.79400
SECONDARY_NE_QUAD_XY: 322660.28200 4985196.03200
SECONDARY_SE_QUAD_XY: 322467.49800 4978253.15600
SECONDARY_SW_QUAD_XY: 317536.03100 4978391.91700
RMSE_XY: 1.50000
IMAGE_SOURCE: BLACK AND WHITE FILM
SOURCE_IMAGE_ID: NAPP 8391 124
SOURCE_IMAGE_DATE: 1995 08 01
SOURCE_IMAGE_ID: NAPP 8391 123
SOURCE_IMAGE_DATE: 1995 08 01
SOURCE_DEM_DATE: 1965 00 00
AGENCY: WESTERN MAPPING CENTER (WMC)
PRODUCER: UNDEFINED
PRODUCTION_SYSTEM: GIS/MAGIC
COMPRESSION: UNDEFINED
STANDARD_VERSION: 1996 12
METADATA_DATE: 2000 05 19
DATA_FILE_SIZE: 44582832
BYTE_COUNT: 5796
