FILENAME: O4411307.SWS.1076575.tif
QUADRANGLE_NAME: JEFF DAVIS PEAK
QUADRANT: SW
WEST_LONGITUDE: -113 15 0.00000
EAST_LONGITUDE: -113 11 15.00000
NORTH_LATITUDE: 44 56 15.00000
SOUTH_LATITUDE: 44 52 30.00000
PRODUCTION_DATE: 2000 5 2
RASTER_ORDER: LEFT_RIGHT/TOP_BOTTOM
BAND_ORGANIZATION: SINGLE FILE
BAND_CONTENT: BLACK&WHITE
BAND_CONTENT: UNDEFINED
BAND_CONTENT: UNDEFINED
BITS_PER_PIXEL: 8
SAMPLES_AND_LINES: 5796 7688
HORIZONTAL_DATUM: NAD83
HORIZONTAL_COORDINATE_SYSTEM: UTM
COORDINATE_ZONE: 12
HORIZONTAL_UNITS: METERS
HORIZONTAL_RESOLUTION: 1.00000
SECONDARY_HORIZONTAL_DATUM: NAD27
XY_ORIGIN: 321910.00000 4978771.00000
SECONDARY_XY_ORIGIN: 321973.79700 4978560.29600
NATION: US
NATION: "SCIENCE
STATE: MT
NW_QUAD_CORNER_XY: 322472.73100 4978470.21800
NE_QUAD_CORNER_XY: 327404.05300 4978335.26600
SE_QUAD_CORNERY_XY: 327216.83400 4971392.40000
SW_QUAD_CORNER_XY: 322280.15800 4971527.35000
SECONDARY_NW_QUAD_XY: 322467.49800 4978253.15600
SECONDARY_NE_QUAD_XY: 327398.96500 4978118.20000
SECONDARY_SE_QUAD_XY: 327211.74700 4971175.39000
SECONDARY_SW_QUAD_XY: 322274.92600 4971310.34400
RMSE_XY: 1.30000
IMAGE_SOURCE: BLACK AND WHITE FILM
SOURCE_IMAGE_ID: NAPP 8393 228
SOURCE_IMAGE_DATE: 1995 08 19
SOURCE_IMAGE_ID: NAPP 8393 227
SOURCE_IMAGE_DATE: 1995 08 19
SOURCE_IMAGE_ID: NAPP 8393 226
SOURCE_IMAGE_DATE: 1995 08 19
SOURCE_DEM_DATE: 2000 01 01
AGENCY: WESTERN MAPPING CENTER (WMC)
PRODUCER: UNDEFINED
PRODUCTION_SYSTEM: GIS/MAGIC
COMPRESSION: UNDEFINED
STANDARD_VERSION: 1996 12
METADATA_DATE: 2000 05 19
DATA_FILE_SIZE: 44565444
BYTE_COUNT: 5796
