FILENAME: O4411308.SES.1076630.tif
QUADRANGLE_NAME: HANSEN RANCH
QUADRANT: SE
WEST_LONGITUDE: -113 3 45.00000
EAST_LONGITUDE: -113 0 0.00000
NORTH_LATITUDE: 44 56 15.00000
SOUTH_LATITUDE: 44 52 30.00000
PRODUCTION_DATE: 2000 5 10
RASTER_ORDER: LEFT_RIGHT/TOP_BOTTOM
BAND_ORGANIZATION: SINGLE FILE
BAND_CONTENT: BLACK&WHITE
BAND_CONTENT: UNDEFINED
BAND_CONTENT: UNDEFINED
BITS_PER_PIXEL: 8
SAMPLES_AND_LINES: 5780 7676
HORIZONTAL_DATUM: NAD83
HORIZONTAL_COORDINATE_SYSTEM: UTM
COORDINATE_ZONE: 12
HORIZONTAL_UNITS: METERS
HORIZONTAL_RESOLUTION: 1.00000
SECONDARY_HORIZONTAL_DATUM: NAD27
XY_ORIGIN: 336720.00000 4978377.00000
SECONDARY_XY_ORIGIN: 336783.63000 4978166.75000
NATION: US
NATION: "SCIENCE
STATE: MT
NW_QUAD_CORNER_XY: 337266.69300 4978076.77800
NE_QUAD_CORNER_XY: 342198.01300 4977953.24100
SE_QUAD_CORNERY_XY: 342026.85500 4971010.37800
SW_QUAD_CORNER_XY: 337090.18200 4971133.91400
SECONDARY_NW_QUAD_XY: 337261.89600 4977859.70400
SECONDARY_NE_QUAD_XY: 342193.36100 4977736.16300
SECONDARY_SE_QUAD_XY: 342022.20500 4970793.35700
SECONDARY_SW_QUAD_XY: 337085.38700 4970916.89700
RMSE_XY: 0.90000
IMAGE_SOURCE: BLACK AND WHITE FILM
SOURCE_IMAGE_ID: NAPP 8404 028
SOURCE_IMAGE_DATE: 1995 09 12
SOURCE_IMAGE_ID: NAPP 8404 030
SOURCE_IMAGE_DATE: 1995 09 12
SOURCE_DEM_DATE: 1997 00 00
AGENCY: WESTERN MAPPING CENTER (WMC)
PRODUCER: UNDEFINED
PRODUCTION_SYSTEM: GIS/MAGIC
COMPRESSION: UNDEFINED
STANDARD_VERSION: 1996 12
METADATA_DATE: 2000 05 25
DATA_FILE_SIZE: 44373060
BYTE_COUNT: 5780
