FILENAME: O4411308.NWS.1076629.tif
QUADRANGLE_NAME: HANSEN RANCH
QUADRANT: NW
WEST_LONGITUDE: -113 7 30.00000
EAST_LONGITUDE: -113 3 45.00000
NORTH_LATITUDE: 45 0 0.00000
SOUTH_LATITUDE: 44 56 15.00000
PRODUCTION_DATE: 2000 5 10
RASTER_ORDER: LEFT_RIGHT/TOP_BOTTOM
BAND_ORGANIZATION: SINGLE FILE
BAND_CONTENT: BLACK&WHITE
BAND_CONTENT: UNDEFINED
BAND_CONTENT: UNDEFINED
BITS_PER_PIXEL: 8
SAMPLES_AND_LINES: 5780 7681
HORIZONTAL_DATUM: NAD83
HORIZONTAL_COORDINATE_SYSTEM: UTM
COORDINATE_ZONE: 12
HORIZONTAL_UNITS: METERS
HORIZONTAL_RESOLUTION: 1.00000
SECONDARY_HORIZONTAL_DATUM: NAD27
XY_ORIGIN: 331965.00000 4985448.00000
SECONDARY_XY_ORIGIN: 332028.79000 4985237.49200
NATION: US
NATION: "SCIENCE
STATE: MT
NW_QUAD_CORNER_XY: 332517.43900 4985147.05100
NE_QUAD_CORNER_XY: 337443.39900 4985019.70900
SE_QUAD_CORNERY_XY: 337266.69300 4978076.77800
SW_QUAD_CORNER_XY: 332335.37300 4978204.12000
SECONDARY_NW_QUAD_XY: 332512.49500 4984929.92500
SECONDARY_NE_QUAD_XY: 337438.60100 4984802.57900
SECONDARY_SE_QUAD_XY: 337261.89600 4977859.70400
SECONDARY_SW_QUAD_XY: 332330.43100 4977987.05000
RMSE_XY: 1.60000
IMAGE_SOURCE: BLACK AND WHITE FILM
SOURCE_IMAGE_ID: NAPP 8404 065
SOURCE_IMAGE_DATE: 1995 09 12
SOURCE_IMAGE_ID: NAPP 8393 240
SOURCE_IMAGE_DATE: 1995 08 19
SOURCE_IMAGE_ID: NAPP 8404 064
SOURCE_IMAGE_DATE: 1995 09 12
SOURCE_IMAGE_ID: NAPP 8404 026
SOURCE_IMAGE_DATE: 1995 09 12
SOURCE_DEM_DATE: 1997 00 00
AGENCY: WESTERN MAPPING CENTER (WMC)
PRODUCER: UNDEFINED
PRODUCTION_SYSTEM: GIS/MAGIC
COMPRESSION: UNDEFINED
STANDARD_VERSION: 1996 12
METADATA_DATE: 2000 05 25
DATA_FILE_SIZE: 44401960
BYTE_COUNT: 5780
