FILENAME: O4411315.NWS.46907.tif
QUADRANGLE_NAME: DEADMAN PASS
QUADRANT: NW
WEST_LONGITUDE: -113 15 0.00000
EAST_LONGITUDE: -113 11 15.00000
NORTH_LATITUDE: 44 52 30.00000
SOUTH_LATITUDE: 44 48 45.00000
PRODUCTION_DATE: 1995 10 19
RASTER_ORDER: LEFT_RIGHT/TOP_BOTTOM
BAND_ORGANIZATION: SINGLE FILE
BAND_CONTENT: BLACK&WHITE
BAND_CONTENT: UNDEFINED
BAND_CONTENT: UNDEFINED
BITS_PER_PIXEL: 8
SAMPLES_AND_LINES: 5850 7710
HORIZONTAL_DATUM: NAD83
HORIZONTAL_COORDINATE_SYSTEM: UTM
COORDINATE_ZONE: 12
HORIZONTAL_UNITS: METERS
HORIZONTAL_RESOLUTION: 1.00000
SECONDARY_HORIZONTAL_DATUM: NAD27
XY_ORIGIN: 321690.00000 4971840.00000
SECONDARY_XY_ORIGIN: 321753.69800 4971629.39400
NATION: US
STATE: MT
STATE: ID
NW_QUAD_CORNER_XY: 322280.15800 4971527.35000
NE_QUAD_CORNER_XY: 327216.83400 4971392.40000
SE_QUAD_CORNERY_XY: 327029.82200 4964449.59800
SW_QUAD_CORNER_XY: 322087.79700 4964584.54700
SECONDARY_NW_QUAD_XY: 322274.92600 4971310.34500
SECONDARY_NE_QUAD_XY: 327211.74700 4971175.39000
SECONDARY_SE_QUAD_XY: 327024.73700 4964232.64600
SECONDARY_SW_QUAD_XY: 322082.56700 4964367.59900
RMSE_XY: 1.70000
IMAGE_SOURCE: BLACK AND WHITE FILM
SOURCE_IMAGE_ID: NAPP 4942 034
SOURCE_IMAGE_DATE: 1992 9 18
SOURCE_DEM_DATE: 1995 10 19
AGENCY: WESTERN MAPPING CENTER (WMC)
PRODUCER: Analytical Surveys
PRODUCTION_SYSTEM: ORBIT OR_RECTIFY V.5.2
COMPRESSION: UNDEFINED
STANDARD_VERSION: 1996 12
METADATA_DATE: 1997 7 13
DATA_FILE_SIZE: 45109350
BYTE_COUNT: 5850
