FILENAME: O4411315.NES.46906.tif
QUADRANGLE_NAME: DEADMAN PASS
QUADRANT: NE
WEST_LONGITUDE: -113 11 15.00000
EAST_LONGITUDE: -113 7 30.00000
NORTH_LATITUDE: 44 52 30.00000
SOUTH_LATITUDE: 44 48 45.00000
PRODUCTION_DATE: 1995 10 30
RASTER_ORDER: LEFT_RIGHT/TOP_BOTTOM
BAND_ORGANIZATION: SINGLE FILE
BAND_CONTENT: BLACK&WHITE
BAND_CONTENT: UNDEFINED
BAND_CONTENT: UNDEFINED
BITS_PER_PIXEL: 8
SAMPLES_AND_LINES: 5820 7710
HORIZONTAL_DATUM: NAD83
HORIZONTAL_COORDINATE_SYSTEM: UTM
COORDINATE_ZONE: 12
HORIZONTAL_UNITS: METERS
HORIZONTAL_RESOLUTION: 1.00000
SECONDARY_HORIZONTAL_DATUM: NAD27
XY_ORIGIN: 326640.00000 4971720.00000
SECONDARY_XY_ORIGIN: 326703.63500 4971509.56000
NATION: US
STATE: MT
NW_QUAD_CORNER_XY: 327216.83400 4971392.40000
NE_QUAD_CORNER_XY: 332153.50800 4971261.25400
SE_QUAD_CORNERY_XY: 331971.84500 4964318.45500
SW_QUAD_CORNER_XY: 327029.82200 4964449.59800
SECONDARY_NW_QUAD_XY: 327211.74700 4971175.39000
SECONDARY_NE_QUAD_XY: 332148.56800 4971044.24100
SECONDARY_SE_QUAD_XY: 331966.90500 4964101.49900
SECONDARY_SW_QUAD_XY: 327024.73700 4964232.64600
RMSE_XY: 3.70000
IMAGE_SOURCE: BLACK AND WHITE FILM
SOURCE_IMAGE_ID: NAPP 4942 045
SOURCE_IMAGE_DATE: 1992 9 18
SOURCE_DEM_DATE: 1995 10 30
AGENCY: WESTERN MAPPING CENTER (WMC)
PRODUCER: Analytical Surveys
PRODUCTION_SYSTEM: ORBIT OR_RECTIFY V.5.2
COMPRESSION: UNDEFINED
STANDARD_VERSION: 1996 12
METADATA_DATE: 1997 7 13
DATA_FILE_SIZE: 44878020
BYTE_COUNT: 5820
