FILENAME: O4411201.SWS.1076691.tif
QUADRANGLE_NAME: GARFIELD CANYON
QUADRANT: SW
WEST_LONGITUDE: -113 0 0.00000
EAST_LONGITUDE: -112 56 15.00000
NORTH_LATITUDE: 44 56 15.00000
SOUTH_LATITUDE: 44 52 30.00000
PRODUCTION_DATE: 2000 5 18
RASTER_ORDER: LEFT_RIGHT/TOP_BOTTOM
BAND_ORGANIZATION: SINGLE FILE
BAND_CONTENT: BLACK&WHITE
BAND_CONTENT: UNDEFINED
BAND_CONTENT: UNDEFINED
BITS_PER_PIXEL: 8
SAMPLES_AND_LINES: 5774 7673
HORIZONTAL_DATUM: NAD83
HORIZONTAL_COORDINATE_SYSTEM: UTM
COORDINATE_ZONE: 12
HORIZONTAL_UNITS: METERS
HORIZONTAL_RESOLUTION: 1.00000
SECONDARY_HORIZONTAL_DATUM: NAD27
XY_ORIGIN: 341657.00000 4978254.00000
SECONDARY_XY_ORIGIN: 341720.56700 4978043.89900
NATION: US
NATION: "SCIENCE
STATE: MT
NW_QUAD_CORNER_XY: 342198.01300 4977953.24100
NE_QUAD_CORNER_XY: 347129.33100 4977833.50800
SE_QUAD_CORNERY_XY: 346963.52700 4970890.64600
SW_QUAD_CORNER_XY: 342026.85500 4971010.37800
SECONDARY_NW_QUAD_XY: 342193.36100 4977736.16300
SECONDARY_NE_QUAD_XY: 347124.82500 4977616.42700
SECONDARY_SE_QUAD_XY: 346959.02200 4970673.62200
SECONDARY_SW_QUAD_XY: 342022.20500 4970793.35700
RMSE_XY: 1.70000
IMAGE_SOURCE: BLACK AND WHITE FILM
SOURCE_IMAGE_ID: NAPP 9485 147
SOURCE_IMAGE_DATE: 1995 08 20
SOURCE_IMAGE_ID: NAPP 9485 148
SOURCE_IMAGE_DATE: 1995 08 20
SOURCE_IMAGE_ID: NAPP 9485 146
SOURCE_IMAGE_DATE: 1995 08 20
SOURCE_IMAGE_ID: NAPP 9483 177
SOURCE_IMAGE_DATE: 1995 08 14
SOURCE_DEM_DATE: 1964 00 00
AGENCY: WESTERN MAPPING CENTER (WMC)
PRODUCER: UNDEFINED
PRODUCTION_SYSTEM: GIS/MAGIC
COMPRESSION: UNDEFINED
STANDARD_VERSION: 1996 12
METADATA_DATE: 2000 05 25
DATA_FILE_SIZE: 44309676
BYTE_COUNT: 5774
