FILENAME: O4411203.SWS.1077564.tif
QUADRANGLE_NAME: MONUMENT HILL
QUADRANT: SW
WEST_LONGITUDE: -112 45 0.00000
EAST_LONGITUDE: -112 41 15.00000
NORTH_LATITUDE: 44 56 15.00000
SOUTH_LATITUDE: 44 52 30.00000
PRODUCTION_DATE: 2000 5 9
RASTER_ORDER: LEFT_RIGHT/TOP_BOTTOM
BAND_ORGANIZATION: SINGLE FILE
BAND_CONTENT: BLACK&WHITE
BAND_CONTENT: UNDEFINED
BAND_CONTENT: UNDEFINED
BITS_PER_PIXEL: 8
SAMPLES_AND_LINES: 5751 7659
HORIZONTAL_DATUM: NAD83
HORIZONTAL_COORDINATE_SYSTEM: UTM
COORDINATE_ZONE: 12
HORIZONTAL_UNITS: METERS
HORIZONTAL_RESOLUTION: 1.00000
SECONDARY_HORIZONTAL_DATUM: NAD27
XY_ORIGIN: 361405.00000 4977798.00000
SECONDARY_XY_ORIGIN: 361468.41600 4977588.47100
NATION: US
NATION: "SCIENCE
STATE: MT
NW_QUAD_CORNER_XY: 361923.28400 4977497.13200
NE_QUAD_CORNER_XY: 366854.60100 4977392.61300
SE_QUAD_CORNERY_XY: 366710.20400 4970449.75500
SW_QUAD_CORNER_XY: 361773.53600 4970554.27300
SECONDARY_NW_QUAD_XY: 361919.21500 4977280.04100
SECONDARY_NE_QUAD_XY: 366850.67600 4977175.51900
SECONDARY_SE_QUAD_XY: 366706.28000 4970232.71800
SECONDARY_SW_QUAD_XY: 361769.46700 4970337.23900
RMSE_XY: 2.10000
IMAGE_SOURCE: BLACK AND WHITE FILM
SOURCE_IMAGE_ID: NAPP 9483 076
SOURCE_IMAGE_DATE: 1995 08 14
SOURCE_DEM_DATE: 1965 00 00
AGENCY: WESTERN MAPPING CENTER (WMC)
PRODUCER: UNDEFINED
PRODUCTION_SYSTEM: GIS/MAGIC
COMPRESSION: UNDEFINED
STANDARD_VERSION: 1996 12
METADATA_DATE: 2000 05 26
DATA_FILE_SIZE: 44052660
BYTE_COUNT: 5751
