FILENAME: O4411206.SWS.789358.tif
QUADRANGLE_NAME: PRICE CREEK NE
QUADRANT: SW
WEST_LONGITUDE: -112 22 30.00000
EAST_LONGITUDE: -112 18 45.00000
NORTH_LATITUDE: 44 56 15.00000
SOUTH_LATITUDE: 44 52 30.00000
PRODUCTION_DATE: 1997 11 13
RASTER_ORDER: LEFT_RIGHT/TOP_BOTTOM
BAND_ORGANIZATION: SINGLE FILE
BAND_CONTENT: BLACK&WHITE
BAND_CONTENT: UNDEFINED
BAND_CONTENT: UNDEFINED
BITS_PER_PIXEL: 8
SAMPLES_AND_LINES: 5715 7633
HORIZONTAL_DATUM: NAD83
HORIZONTAL_COORDINATE_SYSTEM: UTM
COORDINATE_ZONE: 12
HORIZONTAL_UNITS: METERS
HORIZONTAL_RESOLUTION: 1.00000
SECONDARY_HORIZONTAL_DATUM: NAD27
XY_ORIGIN: 391028.07700 4977226.55700
SECONDARY_XY_ORIGIN: 391090.73000 4977017.61700
NATION: US
STATE: MT
NW_QUAD_CORNER_XY: 391511.17600 4976927.05700
NE_QUAD_CORNER_XY: 396442.48900 4976845.35200
SE_QUAD_CORNERY_XY: 396330.19300 4969902.50000
SW_QUAD_CORNER_XY: 391393.53000 4969984.20400
SECONDARY_NW_QUAD_XY: 391507.97800 4976709.95000
SECONDARY_NE_QUAD_XY: 396439.43700 4976628.24200
SECONDARY_SE_QUAD_XY: 396327.14200 4969685.44700
SECONDARY_SW_QUAD_XY: 391390.33300 4969767.15300
RMSE_XY: 1.90000
IMAGE_SOURCE: BLACK AND WHITE FILM
SOURCE_IMAGE_ID: NAPP 9484 52
SOURCE_IMAGE_DATE: 1995 8 14
SOURCE_DEM_DATE: 1997 11 13
AGENCY: WESTERN MAPPING CENTER (WMC)
PRODUCER: NIES MAPPING GROUP
PRODUCTION_SYSTEM: INTERGRAPH- ISPM,ISIR
COMPRESSION: UNDEFINED
STANDARD_VERSION: 1996 12
METADATA_DATE: 1998 2 27
DATA_FILE_SIZE: 43628310
BYTE_COUNT: 5715
