FILENAME: O4411206.SES.789357.tif
QUADRANGLE_NAME: PRICE CREEK NE
QUADRANT: SE
WEST_LONGITUDE: -112 18 45.00000
EAST_LONGITUDE: -112 15 0.00000
NORTH_LATITUDE: 44 56 15.00000
SOUTH_LATITUDE: 44 52 30.00000
PRODUCTION_DATE: 1997 11 13
RASTER_ORDER: LEFT_RIGHT/TOP_BOTTOM
BAND_ORGANIZATION: SINGLE FILE
BAND_CONTENT: BLACK&WHITE
BAND_CONTENT: UNDEFINED
BAND_CONTENT: UNDEFINED
BITS_PER_PIXEL: 8
SAMPLES_AND_LINES: 5709 7629
HORIZONTAL_DATUM: NAD83
HORIZONTAL_COORDINATE_SYSTEM: UTM
COORDINATE_ZONE: 12
HORIZONTAL_UNITS: METERS
HORIZONTAL_RESOLUTION: 1.00000
SECONDARY_HORIZONTAL_DATUM: NAD27
XY_ORIGIN: 395965.02600 4977144.85200
SECONDARY_XY_ORIGIN: 396027.49200 4976935.94900
NATION: US
STATE: MT
NW_QUAD_CORNER_XY: 396442.48900 4976845.35200
NE_QUAD_CORNER_XY: 401373.80200 4976767.44900
SE_QUAD_CORNERY_XY: 401266.85500 4969824.59700
SW_QUAD_CORNER_XY: 396330.19300 4969902.50000
SECONDARY_NW_QUAD_XY: 396439.43700 4976628.24200
SECONDARY_NE_QUAD_XY: 401370.89500 4976550.33600
SECONDARY_SE_QUAD_XY: 401263.94900 4969607.54200
SECONDARY_SW_QUAD_XY: 396327.14200 4969685.44700
RMSE_XY: 1.50000
IMAGE_SOURCE: BLACK AND WHITE FILM
SOURCE_IMAGE_ID: NAPP 9484 87
SOURCE_IMAGE_DATE: 1995 8 14
SOURCE_DEM_DATE: 1997 11 13
AGENCY: WESTERN MAPPING CENTER (WMC)
PRODUCER: NIES MAPPING GROUP
PRODUCTION_SYSTEM: INTERGRAPH- ISPM,ISIR
COMPRESSION: UNDEFINED
STANDARD_VERSION: 1996 12
METADATA_DATE: 1998 2 27
DATA_FILE_SIZE: 43559670
BYTE_COUNT: 5709
