FILENAME: O4411206.NWS.789356.tif
QUADRANGLE_NAME: PRICE CREEK NE
QUADRANT: NW
WEST_LONGITUDE: -112 22 30.00000
EAST_LONGITUDE: -112 18 45.00000
NORTH_LATITUDE: 45 0 0.00000
SOUTH_LATITUDE: 44 56 15.00000
PRODUCTION_DATE: 1997 11 13
RASTER_ORDER: LEFT_RIGHT/TOP_BOTTOM
BAND_ORGANIZATION: SINGLE FILE
BAND_CONTENT: BLACK&WHITE
BAND_CONTENT: UNDEFINED
BAND_CONTENT: UNDEFINED
BITS_PER_PIXEL: 8
SAMPLES_AND_LINES: 5710 7633
HORIZONTAL_DATUM: NAD83
HORIZONTAL_COORDINATE_SYSTEM: UTM
COORDINATE_ZONE: 12
HORIZONTAL_UNITS: METERS
HORIZONTAL_RESOLUTION: 1.00000
SECONDARY_HORIZONTAL_DATUM: NAD27
XY_ORIGIN: 391145.83600 4984169.48200
SECONDARY_XY_ORIGIN: 391208.38500 4983960.36800
NATION: US
STATE: MT
NW_QUAD_CORNER_XY: 391628.95100 4983869.98200
NE_QUAD_CORNER_XY: 396554.90900 4983788.27700
SE_QUAD_CORNERY_XY: 396442.48900 4976845.35200
SW_QUAD_CORNER_XY: 391511.17600 4976927.05700
SECONDARY_NW_QUAD_XY: 391625.75200 4983652.81900
SECONDARY_NE_QUAD_XY: 396551.85600 4983571.11100
SECONDARY_SE_QUAD_XY: 396439.43700 4976628.24200
SECONDARY_SW_QUAD_XY: 391507.97800 4976709.95000
RMSE_XY: 1.40000
IMAGE_SOURCE: BLACK AND WHITE FILM
SOURCE_IMAGE_ID: NAPP 9484 50
SOURCE_IMAGE_DATE: 1995 8 14
SOURCE_DEM_DATE: 1997 11 13
AGENCY: WESTERN MAPPING CENTER (WMC)
PRODUCER: NIES MAPPING GROUP
PRODUCTION_SYSTEM: INTERGRAPH- ISPM,ISIR
COMPRESSION: UNDEFINED
STANDARD_VERSION: 1996 12
METADATA_DATE: 1998 2 27
DATA_FILE_SIZE: 43590140
BYTE_COUNT: 5710
