FILENAME: O4411206.NES.789355.tif
QUADRANGLE_NAME: PRICE CREEK NE
QUADRANT: NE
WEST_LONGITUDE: -112 18 45.00000
EAST_LONGITUDE: -112 15 0.00000
NORTH_LATITUDE: 45 0 0.00000
SOUTH_LATITUDE: 44 56 15.00000
PRODUCTION_DATE: 1997 11 13
RASTER_ORDER: LEFT_RIGHT/TOP_BOTTOM
BAND_ORGANIZATION: SINGLE FILE
BAND_CONTENT: BLACK&WHITE
BAND_CONTENT: UNDEFINED
BAND_CONTENT: UNDEFINED
BITS_PER_PIXEL: 8
SAMPLES_AND_LINES: 5704 7629
HORIZONTAL_DATUM: NAD83
HORIZONTAL_COORDINATE_SYSTEM: UTM
COORDINATE_ZONE: 12
HORIZONTAL_UNITS: METERS
HORIZONTAL_RESOLUTION: 1.00000
SECONDARY_HORIZONTAL_DATUM: NAD27
XY_ORIGIN: 396077.48000 4984087.77700
SECONDARY_XY_ORIGIN: 396139.79800 4983878.70200
NATION: US
STATE: MT
NW_QUAD_CORNER_XY: 396554.90900 4983788.27700
NE_QUAD_CORNER_XY: 401480.86700 4983710.37300
SE_QUAD_CORNERY_XY: 401373.80200 4976767.44900
SW_QUAD_CORNER_XY: 396442.48900 4976845.35200
SECONDARY_NW_QUAD_XY: 396551.85600 4983571.11100
SECONDARY_NE_QUAD_XY: 401477.95900 4983493.20400
SECONDARY_SE_QUAD_XY: 401370.89500 4976550.33600
SECONDARY_SW_QUAD_XY: 396439.43700 4976628.24200
RMSE_XY: 1.30000
IMAGE_SOURCE: BLACK AND WHITE FILM
SOURCE_IMAGE_ID: NAPP 9484 89
SOURCE_IMAGE_DATE: 1995 8 14
SOURCE_DEM_DATE: 1997 11 13
AGENCY: WESTERN MAPPING CENTER (WMC)
PRODUCER: NIES MAPPING GROUP
PRODUCTION_SYSTEM: INTERGRAPH- ISPM,ISIR
COMPRESSION: UNDEFINED
STANDARD_VERSION: 1996 12
METADATA_DATE: 1998 2 27
DATA_FILE_SIZE: 43521520
BYTE_COUNT: 5704
