FILENAME: O4411207.NWS.789360.tif
QUADRANGLE_NAME: SWAMP CREEK
QUADRANT: NW
WEST_LONGITUDE: -112 15 0.00000
EAST_LONGITUDE: -112 11 15.00000
NORTH_LATITUDE: 45 0 0.00000
SOUTH_LATITUDE: 44 56 15.00000
PRODUCTION_DATE: 1997 11 19
RASTER_ORDER: LEFT_RIGHT/TOP_BOTTOM
BAND_ORGANIZATION: SINGLE FILE
BAND_CONTENT: BLACK&WHITE
BAND_CONTENT: UNDEFINED
BAND_CONTENT: UNDEFINED
BITS_PER_PIXEL: 8
SAMPLES_AND_LINES: 5698 7625
HORIZONTAL_DATUM: NAD83
HORIZONTAL_COORDINATE_SYSTEM: UTM
COORDINATE_ZONE: 12
HORIZONTAL_UNITS: METERS
HORIZONTAL_RESOLUTION: 1.00000
SECONDARY_HORIZONTAL_DATUM: NAD27
XY_ORIGIN: 401009.12400 4984009.87300
SECONDARY_XY_ORIGIN: 401071.21000 4983800.83600
NATION: US
STATE: MT
NW_QUAD_CORNER_XY: 401480.86700 4983710.37300
NE_QUAD_CORNER_XY: 406406.82500 4983636.27000
SE_QUAD_CORNERY_XY: 406305.11500 4976693.34600
SW_QUAD_CORNER_XY: 401373.80200 4976767.44900
SECONDARY_NW_QUAD_XY: 401477.95900 4983493.20400
SECONDARY_NE_QUAD_XY: 406404.06200 4983419.09900
SECONDARY_SE_QUAD_XY: 406302.35300 4976476.23200
SECONDARY_SW_QUAD_XY: 401370.89500 4976550.33600
RMSE_XY: 3.10000
IMAGE_SOURCE: BLACK AND WHITE FILM
SOURCE_IMAGE_ID: NAPP 9484 180
SOURCE_IMAGE_DATE: 1995 8 14
SOURCE_DEM_DATE: 1997 11 19
AGENCY: WESTERN MAPPING CENTER (WMC)
PRODUCER: NIES MAPPING GROUP
PRODUCTION_SYSTEM: INTERGRAPH- ISPM,ISIR
COMPRESSION: UNDEFINED
STANDARD_VERSION: 1996 12
METADATA_DATE: 1998 2 27
DATA_FILE_SIZE: 43452948
BYTE_COUNT: 5698
