FILENAME: O4411208.SWS.789292.tif
QUADRANGLE_NAME: SPUR MOUNTAIN
QUADRANT: SW
WEST_LONGITUDE: -112 7 30.00000
EAST_LONGITUDE: -112 3 45.00000
NORTH_LATITUDE: 44 56 15.00000
SOUTH_LATITUDE: 44 52 30.00000
PRODUCTION_DATE: 1997 11 19
RASTER_ORDER: LEFT_RIGHT/TOP_BOTTOM
BAND_ORGANIZATION: SINGLE FILE
BAND_CONTENT: BLACK&WHITE
BAND_CONTENT: UNDEFINED
BAND_CONTENT: UNDEFINED
BITS_PER_PIXEL: 8
SAMPLES_AND_LINES: 5692 7618
HORIZONTAL_DATUM: NAD83
HORIZONTAL_COORDINATE_SYSTEM: UTM
COORDINATE_ZONE: 12
HORIZONTAL_UNITS: METERS
HORIZONTAL_RESOLUTION: 1.00000
SECONDARY_HORIZONTAL_DATUM: NAD27
XY_ORIGIN: 410775.98000 4976922.54500
SECONDARY_XY_ORIGIN: 410837.79800 4976713.70900
NATION: US
STATE: MT
NW_QUAD_CORNER_XY: 411236.42700 4976623.04500
NE_QUAD_CORNER_XY: 416167.73900 4976556.54500
SE_QUAD_CORNERY_XY: 416076.83800 4969613.69600
SW_QUAD_CORNER_XY: 411140.17800 4969680.19600
SECONDARY_NW_QUAD_XY: 411233.81100 4976405.92900
SECONDARY_NE_QUAD_XY: 416165.26800 4976339.42700
SECONDARY_SE_QUAD_XY: 416074.36800 4969396.63400
SECONDARY_SW_QUAD_XY: 411137.56200 4969463.13600
RMSE_XY: 3.60000
IMAGE_SOURCE: BLACK AND WHITE FILM
SOURCE_IMAGE_ID: NAPP 9484 264
SOURCE_IMAGE_DATE: 1995 8 14
SOURCE_DEM_DATE: 1997 11 19
AGENCY: WESTERN MAPPING CENTER (WMC)
PRODUCER: NIES MAPPING GROUP
PRODUCTION_SYSTEM: INTERGRAPH- ISPM,ISIR
COMPRESSION: UNDEFINED
STANDARD_VERSION: 1996 12
METADATA_DATE: 1998 2 5
DATA_FILE_SIZE: 43367348
BYTE_COUNT: 5692
