FILENAME: O4411208.SES.789291.tif
QUADRANGLE_NAME: SPUR MOUNTAIN
QUADRANT: SE
WEST_LONGITUDE: -112 3 45.00000
EAST_LONGITUDE: -112 0 0.00000
NORTH_LATITUDE: 44 56 15.00000
SOUTH_LATITUDE: 44 52 30.00000
PRODUCTION_DATE: 1997 11 19
RASTER_ORDER: LEFT_RIGHT/TOP_BOTTOM
BAND_ORGANIZATION: SINGLE FILE
BAND_CONTENT: BLACK&WHITE
BAND_CONTENT: UNDEFINED
BAND_CONTENT: UNDEFINED
BITS_PER_PIXEL: 8
SAMPLES_AND_LINES: 5687 7614
HORIZONTAL_DATUM: NAD83
HORIZONTAL_COORDINATE_SYSTEM: UTM
COORDINATE_ZONE: 12
HORIZONTAL_UNITS: METERS
HORIZONTAL_RESOLUTION: 1.00000
SECONDARY_HORIZONTAL_DATUM: NAD27
XY_ORIGIN: 415712.98400 4976856.04500
SECONDARY_XY_ORIGIN: 415774.57100 4976647.22400
NATION: US
STATE: MT
NW_QUAD_CORNER_XY: 416167.73900 4976556.54500
NE_QUAD_CORNER_XY: 421099.05000 4976493.84600
SE_QUAD_CORNERY_XY: 421013.49800 4969550.99800
SW_QUAD_CORNER_XY: 416076.83800 4969613.69600
SECONDARY_NW_QUAD_XY: 416165.26800 4976339.42700
SECONDARY_NE_QUAD_XY: 421096.72500 4976276.72600
SECONDARY_SE_QUAD_XY: 421011.17300 4969333.93400
SECONDARY_SW_QUAD_XY: 416074.36800 4969396.63400
RMSE_XY: 3.80000
IMAGE_SOURCE: BLACK AND WHITE FILM
SOURCE_IMAGE_ID: NAPP 9485 250
SOURCE_IMAGE_DATE: 1995 8 20
SOURCE_DEM_DATE: 1997 11 19
AGENCY: WESTERN MAPPING CENTER (WMC)
PRODUCER: NIES MAPPING GROUP
PRODUCTION_SYSTEM: INTERGRAPH- ISPM,ISIR
COMPRESSION: UNDEFINED
STANDARD_VERSION: 1996 12
METADATA_DATE: 1998 2 5
DATA_FILE_SIZE: 43306505
BYTE_COUNT: 5687
