FILENAME: O4411208.NES.789289.tif
QUADRANGLE_NAME: SPUR MOUNTAIN
QUADRANT: NE
WEST_LONGITUDE: -112 3 45.00000
EAST_LONGITUDE: -112 0 0.00000
NORTH_LATITUDE: 45 0 0.00000
SOUTH_LATITUDE: 44 56 15.00000
PRODUCTION_DATE: 1997 11 19
RASTER_ORDER: LEFT_RIGHT/TOP_BOTTOM
BAND_ORGANIZATION: SINGLE FILE
BAND_CONTENT: BLACK&WHITE
BAND_CONTENT: UNDEFINED
BAND_CONTENT: UNDEFINED
BITS_PER_PIXEL: 8
SAMPLES_AND_LINES: 5681 7614
HORIZONTAL_DATUM: NAD83
HORIZONTAL_COORDINATE_SYSTEM: UTM
COORDINATE_ZONE: 12
HORIZONTAL_UNITS: METERS
HORIZONTAL_RESOLUTION: 1.00000
SECONDARY_HORIZONTAL_DATUM: NAD27
XY_ORIGIN: 415804.18700 4983798.96800
SECONDARY_XY_ORIGIN: 415865.49200 4983589.93600
NATION: US
STATE: MT
NW_QUAD_CORNER_XY: 416258.74000 4983499.46800
NE_QUAD_CORNER_XY: 421184.69700 4983436.76900
SE_QUAD_CORNERY_XY: 421099.05000 4976493.84600
SW_QUAD_CORNER_XY: 416167.73900 4976556.54500
SECONDARY_NW_QUAD_XY: 416256.26800 4983282.29400
SECONDARY_NE_QUAD_XY: 421182.37100 4983219.59200
SECONDARY_SE_QUAD_XY: 421096.72500 4976276.72600
SECONDARY_SW_QUAD_XY: 416165.26800 4976339.42700
RMSE_XY: 3.90000
IMAGE_SOURCE: BLACK AND WHITE FILM
SOURCE_IMAGE_ID: NAPP 9485 252
SOURCE_IMAGE_DATE: 1995 8 20
SOURCE_DEM_DATE: 1997 11 19
AGENCY: WESTERN MAPPING CENTER (WMC)
PRODUCER: NIES MAPPING GROUP
PRODUCTION_SYSTEM: INTERGRAPH- ISPM,ISIR
COMPRESSION: UNDEFINED
STANDARD_VERSION: 1996 12
METADATA_DATE: 1998 2 5
DATA_FILE_SIZE: 43260815
BYTE_COUNT: 5681
