FILENAME: O4411209.SWS.1076667.tif
QUADRANGLE_NAME: DEER CANYON
QUADRANT: SW
WEST_LONGITUDE: -113 0 0.00000
EAST_LONGITUDE: -112 56 15.00000
NORTH_LATITUDE: 44 48 45.00000
SOUTH_LATITUDE: 44 45 0.00000
PRODUCTION_DATE: 2000 5 18
RASTER_ORDER: LEFT_RIGHT/TOP_BOTTOM
BAND_ORGANIZATION: SINGLE FILE
BAND_CONTENT: BLACK&WHITE
BAND_CONTENT: UNDEFINED
BAND_CONTENT: UNDEFINED
BITS_PER_PIXEL: 8
SAMPLES_AND_LINES: 5783 7673
HORIZONTAL_DATUM: NAD83
HORIZONTAL_COORDINATE_SYSTEM: UTM
COORDINATE_ZONE: 12
HORIZONTAL_UNITS: METERS
HORIZONTAL_RESOLUTION: 1.00000
SECONDARY_HORIZONTAL_DATUM: NAD27
XY_ORIGIN: 341316.00000 4964368.00000
SECONDARY_XY_ORIGIN: 341379.34300 4964158.13300
NATION: US
NATION: "SCIENCE
STATE: MT
NW_QUAD_CORNER_XY: 341855.88600 4964067.58200
NE_QUAD_CORNER_XY: 346797.90500 4963947.85200
SE_QUAD_CORNERY_XY: 346632.46700 4957005.12500
SW_QUAD_CORNER_XY: 341685.10700 4957124.85300
SECONDARY_NW_QUAD_XY: 341851.23800 4963850.61900
SECONDARY_NE_QUAD_XY: 346793.40200 4963730.88500
SECONDARY_SE_QUAD_XY: 346627.96500 4956788.21700
SECONDARY_SW_QUAD_XY: 341680.46000 4956907.94800
RMSE_XY: 1.30000
IMAGE_SOURCE: BLACK AND WHITE FILM
SOURCE_IMAGE_ID: NAPP 9485 151
SOURCE_IMAGE_DATE: 1995 08 20
SOURCE_IMAGE_ID: NAPP 8404 033
SOURCE_IMAGE_DATE: 1995 09 12
SOURCE_IMAGE_ID: NAPP 8404 032
SOURCE_IMAGE_DATE: 1995 09 12
SOURCE_IMAGE_ID: NAPP 9485 152
SOURCE_IMAGE_DATE: 1995 08 20
SOURCE_IMAGE_ID: NAPP 9485 150
SOURCE_IMAGE_DATE: 1995 08 20
SOURCE_DEM_DATE: 1964 00 00
AGENCY: WESTERN MAPPING CENTER (WMC)
PRODUCER: UNDEFINED
PRODUCTION_SYSTEM: GIS/MAGIC
COMPRESSION: UNDEFINED
STANDARD_VERSION: 1996 12
METADATA_DATE: 2000 05 25
DATA_FILE_SIZE: 44378742
BYTE_COUNT: 5783
