FILENAME: O4411209.SES.1076666.tif
QUADRANGLE_NAME: DEER CANYON
QUADRANT: SE
WEST_LONGITUDE: -112 56 15.00000
EAST_LONGITUDE: -112 52 30.00000
NORTH_LATITUDE: 44 48 45.00000
SOUTH_LATITUDE: 44 45 0.00000
PRODUCTION_DATE: 2000 5 18
RASTER_ORDER: LEFT_RIGHT/TOP_BOTTOM
BAND_ORGANIZATION: SINGLE FILE
BAND_CONTENT: BLACK&WHITE
BAND_CONTENT: UNDEFINED
BAND_CONTENT: UNDEFINED
BITS_PER_PIXEL: 8
SAMPLES_AND_LINES: 5778 7669
HORIZONTAL_DATUM: NAD83
HORIZONTAL_COORDINATE_SYSTEM: UTM
COORDINATE_ZONE: 12
HORIZONTAL_UNITS: METERS
HORIZONTAL_RESOLUTION: 1.00000
SECONDARY_HORIZONTAL_DATUM: NAD27
XY_ORIGIN: 346263.00000 4964248.00000
SECONDARY_XY_ORIGIN: 346326.33400 4964038.29900
NATION: US
NATION: "SCIENCE
STATE: MT
NW_QUAD_CORNER_XY: 346797.90500 4963947.85200
NE_QUAD_CORNER_XY: 351739.92200 4963831.92500
SE_QUAD_CORNERY_XY: 351579.82500 4956889.20100
SW_QUAD_CORNER_XY: 346632.46700 4957005.12500
SECONDARY_NW_QUAD_XY: 346793.40200 4963730.88500
SECONDARY_NE_QUAD_XY: 351735.56400 4963614.95500
SECONDARY_SE_QUAD_XY: 351575.46800 4956672.28900
SECONDARY_SW_QUAD_XY: 346627.96500 4956788.21700
RMSE_XY: 1.70000
IMAGE_SOURCE: BLACK AND WHITE FILM
SOURCE_IMAGE_ID: NAPP 9483 182
SOURCE_IMAGE_DATE: 1995 08 14
SOURCE_IMAGE_ID: NAPP 9485 151
SOURCE_IMAGE_DATE: 1995 08 20
SOURCE_IMAGE_ID: NAPP 9483 183
SOURCE_IMAGE_DATE: 1995 08 14
SOURCE_IMAGE_ID: NAPP 9483 181
SOURCE_IMAGE_DATE: 1995 08 14
SOURCE_DEM_DATE: 1964 00 00
AGENCY: WESTERN MAPPING CENTER (WMC)
PRODUCER: UNDEFINED
PRODUCTION_SYSTEM: GIS/MAGIC
COMPRESSION: UNDEFINED
STANDARD_VERSION: 1996 12
METADATA_DATE: 2000 05 25
DATA_FILE_SIZE: 44317260
BYTE_COUNT: 5778
