FILENAME: O4411210.NES.1076736.tif
QUADRANGLE_NAME: KIDD
QUADRANT: NE
WEST_LONGITUDE: -112 48 45.00000
EAST_LONGITUDE: -112 45 0.00000
NORTH_LATITUDE: 44 52 30.00000
SOUTH_LATITUDE: 44 48 45.00000
PRODUCTION_DATE: 2000 5 9
RASTER_ORDER: LEFT_RIGHT/TOP_BOTTOM
BAND_ORGANIZATION: SINGLE FILE
BAND_CONTENT: BLACK&WHITE
BAND_CONTENT: UNDEFINED
BAND_CONTENT: UNDEFINED
BITS_PER_PIXEL: 8
SAMPLES_AND_LINES: 5762 7662
HORIZONTAL_DATUM: NAD83
HORIZONTAL_COORDINATE_SYSTEM: UTM
COORDINATE_ZONE: 12
HORIZONTAL_UNITS: METERS
HORIZONTAL_RESOLUTION: 1.00000
SECONDARY_HORIZONTAL_DATUM: NAD27
XY_ORIGIN: 356313.00000 4970963.00000
SECONDARY_XY_ORIGIN: 356376.38300 4970753.47700
NATION: US
NATION: "SCIENCE
STATE: MT
NW_QUAD_CORNER_XY: 356836.86700 4970662.59400
NE_QUAD_CORNER_XY: 361773.53600 4970554.27300
SE_QUAD_CORNERY_XY: 361623.95300 4963611.48300
SW_QUAD_CORNER_XY: 356681.93800 4963719.80300
SECONDARY_NW_QUAD_XY: 356832.65300 4970445.56300
SECONDARY_NE_QUAD_XY: 361769.46700 4970337.23900
SECONDARY_SE_QUAD_XY: 361619.88500 4963394.50700
SECONDARY_SW_QUAD_XY: 356677.72500 4963502.82900
RMSE_XY: 1.50000
IMAGE_SOURCE: BLACK AND WHITE FILM
SOURCE_IMAGE_ID: NAPP 9483 105
SOURCE_IMAGE_DATE: 1995 08 14
SOURCE_IMAGE_ID: NAPP 9483 104
SOURCE_IMAGE_DATE: 1995 08 14
SOURCE_IMAGE_ID: NAPP 9483 106
SOURCE_IMAGE_DATE: 1995 08 14
SOURCE_IMAGE_ID: NAPP 9483 079
SOURCE_IMAGE_DATE: 1995 08 14
SOURCE_DEM_DATE: 1992 00 00
AGENCY: WESTERN MAPPING CENTER (WMC)
PRODUCER: UNDEFINED
PRODUCTION_SYSTEM: GIS/MAGIC
COMPRESSION: UNDEFINED
STANDARD_VERSION: 1996 12
METADATA_DATE: 2000 05 25
DATA_FILE_SIZE: 44154206
BYTE_COUNT: 5762
