FILENAME: O4411211.NWS.1077570.tif
QUADRANGLE_NAME: BRIGGS RANCH
QUADRANT: NW
WEST_LONGITUDE: -112 45 0.00000
EAST_LONGITUDE: -112 41 15.00000
NORTH_LATITUDE: 44 52 30.00000
SOUTH_LATITUDE: 44 48 45.00000
PRODUCTION_DATE: 2000 5 9
RASTER_ORDER: LEFT_RIGHT/TOP_BOTTOM
BAND_ORGANIZATION: SINGLE FILE
BAND_CONTENT: BLACK&WHITE
BAND_CONTENT: UNDEFINED
BAND_CONTENT: UNDEFINED
BITS_PER_PIXEL: 8
SAMPLES_AND_LINES: 5757 7658
HORIZONTAL_DATUM: NAD83
HORIZONTAL_COORDINATE_SYSTEM: UTM
COORDINATE_ZONE: 12
HORIZONTAL_UNITS: METERS
HORIZONTAL_RESOLUTION: 1.00000
SECONDARY_HORIZONTAL_DATUM: NAD27
XY_ORIGIN: 361255.00000 4970855.00000
SECONDARY_XY_ORIGIN: 361318.36200 4970645.63600
NATION: US
NATION: "SCIENCE
STATE: MT
NW_QUAD_CORNER_XY: 361773.53600 4970554.27300
NE_QUAD_CORNER_XY: 366710.20400 4970449.75500
SE_QUAD_CORNERY_XY: 366565.96600 4963506.96700
SW_QUAD_CORNER_XY: 361623.95300 4963611.48300
SECONDARY_NW_QUAD_XY: 361769.46700 4970337.23900
SECONDARY_NE_QUAD_XY: 366706.28000 4970232.71800
SECONDARY_SE_QUAD_XY: 366562.04400 4963289.98700
SECONDARY_SW_QUAD_XY: 361619.88500 4963394.50700
RMSE_XY: 1.90000
IMAGE_SOURCE: BLACK AND WHITE FILM
SOURCE_IMAGE_ID: NAPP 9483 078
SOURCE_IMAGE_DATE: 1995 08 14
SOURCE_IMAGE_ID: NAPP 9483 079
SOURCE_IMAGE_DATE: 1995 08 14
SOURCE_DEM_DATE: 1964 00 00
AGENCY: WESTERN MAPPING CENTER (WMC)
PRODUCER: UNDEFINED
PRODUCTION_SYSTEM: GIS/MAGIC
COMPRESSION: UNDEFINED
STANDARD_VERSION: 1996 12
METADATA_DATE: 2000 05 26
DATA_FILE_SIZE: 44092863
BYTE_COUNT: 5757
