FILENAME: O4411211.NES.1077567.tif
QUADRANGLE_NAME: BRIGGS RANCH
QUADRANT: NE
WEST_LONGITUDE: -112 41 15.00000
EAST_LONGITUDE: -112 37 30.00000
NORTH_LATITUDE: 44 52 30.00000
SOUTH_LATITUDE: 44 48 45.00000
PRODUCTION_DATE: 2000 5 9
RASTER_ORDER: LEFT_RIGHT/TOP_BOTTOM
BAND_ORGANIZATION: SINGLE FILE
BAND_CONTENT: BLACK&WHITE
BAND_CONTENT: UNDEFINED
BAND_CONTENT: UNDEFINED
BITS_PER_PIXEL: 8
SAMPLES_AND_LINES: 5751 7654
HORIZONTAL_DATUM: NAD83
HORIZONTAL_COORDINATE_SYSTEM: UTM
COORDINATE_ZONE: 12
HORIZONTAL_UNITS: METERS
HORIZONTAL_RESOLUTION: 1.00000
SECONDARY_HORIZONTAL_DATUM: NAD27
XY_ORIGIN: 366197.00000 4970750.00000
SECONDARY_XY_ORIGIN: 366260.28100 4970540.76700
NATION: US
NATION: "SCIENCE
STATE: MT
NW_QUAD_CORNER_XY: 366710.20400 4970449.75500
NE_QUAD_CORNER_XY: 371646.87100 4970349.04000
SE_QUAD_CORNERY_XY: 371507.97800 4963406.25400
SW_QUAD_CORNER_XY: 366565.96600 4963506.96700
SECONDARY_NW_QUAD_XY: 366706.28000 4970232.71800
SECONDARY_NE_QUAD_XY: 371643.09300 4970132.00000
SECONDARY_SE_QUAD_XY: 371504.20100 4963189.27100
SECONDARY_SW_QUAD_XY: 366562.04400 4963289.98700
RMSE_XY: 1.80000
IMAGE_SOURCE: BLACK AND WHITE FILM
SOURCE_IMAGE_ID: NAPP 8382 008
SOURCE_IMAGE_DATE: 1995 08 01
SOURCE_DEM_DATE: 1964 00 00
AGENCY: WESTERN MAPPING CENTER (WMC)
PRODUCER: UNDEFINED
PRODUCTION_SYSTEM: GIS/MAGIC
COMPRESSION: UNDEFINED
STANDARD_VERSION: 1996 12
METADATA_DATE: 2000 05 26
DATA_FILE_SIZE: 44023905
BYTE_COUNT: 5751
