FILENAME: O4411212.SES.1077631.tif
QUADRANGLE_NAME: ROCK ISLAND RANCH
QUADRANT: SE
WEST_LONGITUDE: -112 33 45.00000
EAST_LONGITUDE: -112 30 0.00000
NORTH_LATITUDE: 44 48 45.00000
SOUTH_LATITUDE: 44 45 0.00000
PRODUCTION_DATE: 2000 4 20
RASTER_ORDER: LEFT_RIGHT/TOP_BOTTOM
BAND_ORGANIZATION: SINGLE FILE
BAND_CONTENT: BLACK&WHITE
BAND_CONTENT: UNDEFINED
BAND_CONTENT: UNDEFINED
BITS_PER_PIXEL: 8
SAMPLES_AND_LINES: 5745 7647
HORIZONTAL_DATUM: NAD83
HORIZONTAL_COORDINATE_SYSTEM: UTM
COORDINATE_ZONE: 12
HORIZONTAL_UNITS: METERS
HORIZONTAL_RESOLUTION: 1.00000
SECONDARY_HORIZONTAL_DATUM: NAD27
XY_ORIGIN: 375948.00000 4963610.00000
SECONDARY_XY_ORIGIN: 376011.12000 4963401.20500
NATION: US
NATION: "SCIENCE
STATE: MT
NW_QUAD_CORNER_XY: 376449.98900 4963309.34300
NE_QUAD_CORNER_XY: 381391.99900 4963216.23400
SE_QUAD_CORNERY_XY: 381263.93700 4956273.52100
SW_QUAD_CORNER_XY: 376316.58900 4956366.62800
SECONDARY_NW_QUAD_XY: 376446.35700 4963092.35700
SECONDARY_NE_QUAD_XY: 381388.51200 4962999.24600
SECONDARY_SE_QUAD_XY: 381260.45200 4956056.59200
SECONDARY_SW_QUAD_XY: 376312.95900 4956149.70100
RMSE_XY: 1.70000
IMAGE_SOURCE: BLACK AND WHITE FILM
SOURCE_IMAGE_ID: NAPP 8383 042
SOURCE_IMAGE_DATE: 1995 08 15
SOURCE_IMAGE_ID: NAPP 8382 128
SOURCE_IMAGE_DATE: 1995 08 01
SOURCE_IMAGE_ID: NAPP 8383 041
SOURCE_IMAGE_DATE: 1995 08 15
SOURCE_IMAGE_ID: NAPP 8382 209
SOURCE_IMAGE_DATE: 1995 08 01
SOURCE_DEM_DATE: 1964 00 00
AGENCY: WESTERN MAPPING CENTER (WMC)
PRODUCER: UNDEFINED
PRODUCTION_SYSTEM: GIS/MAGIC
COMPRESSION: UNDEFINED
STANDARD_VERSION: 1996 12
METADATA_DATE: 2000 05 26
DATA_FILE_SIZE: 43937760
BYTE_COUNT: 5745
