FILENAME: O4411212.NES.1077626.tif
QUADRANGLE_NAME: ROCK ISLAND RANCH
QUADRANT: NE
WEST_LONGITUDE: -112 33 45.00000
EAST_LONGITUDE: -112 30 0.00000
NORTH_LATITUDE: 44 52 30.00000
SOUTH_LATITUDE: 44 48 45.00000
PRODUCTION_DATE: 2000 4 20
RASTER_ORDER: LEFT_RIGHT/TOP_BOTTOM
BAND_ORGANIZATION: SINGLE FILE
BAND_CONTENT: BLACK&WHITE
BAND_CONTENT: UNDEFINED
BAND_CONTENT: UNDEFINED
BITS_PER_PIXEL: 8
SAMPLES_AND_LINES: 5740 7648
HORIZONTAL_DATUM: NAD83
HORIZONTAL_COORDINATE_SYSTEM: UTM
COORDINATE_ZONE: 12
HORIZONTAL_UNITS: METERS
HORIZONTAL_RESOLUTION: 1.00000
SECONDARY_HORIZONTAL_DATUM: NAD27
XY_ORIGIN: 376082.00000 4970553.00000
SECONDARY_XY_ORIGIN: 376145.11800 4970344.02700
NATION: US
NATION: "SCIENCE
STATE: MT
NW_QUAD_CORNER_XY: 376583.53700 4970252.12800
NE_QUAD_CORNER_XY: 381520.20200 4970159.01800
SE_QUAD_CORNERY_XY: 381391.99900 4963216.23400
SW_QUAD_CORNER_XY: 376449.98900 4963309.34300
SECONDARY_NW_QUAD_XY: 376579.90400 4970035.08500
SECONDARY_NE_QUAD_XY: 381516.71500 4969941.97200
SECONDARY_SE_QUAD_XY: 381388.51200 4962999.24600
SECONDARY_SW_QUAD_XY: 376446.35700 4963092.35700
RMSE_XY: 1.80000
IMAGE_SOURCE: BLACK AND WHITE FILM
SOURCE_IMAGE_ID: NAPP 8383 040
SOURCE_IMAGE_DATE: 1995 08 15
SOURCE_IMAGE_ID: NAPP 8382 116
SOURCE_IMAGE_DATE: 1995 08 01
SOURCE_IMAGE_ID: NAPP 8383 041
SOURCE_IMAGE_DATE: 1995 08 15
SOURCE_IMAGE_ID: NAPP 8383 039
SOURCE_IMAGE_DATE: 1995 08 15
SOURCE_IMAGE_ID: NAPP 8382 207
SOURCE_IMAGE_DATE: 1995 08 01
SOURCE_DEM_DATE: 1964 00 00
AGENCY: WESTERN MAPPING CENTER (WMC)
PRODUCER: UNDEFINED
PRODUCTION_SYSTEM: GIS/MAGIC
COMPRESSION: UNDEFINED
STANDARD_VERSION: 1996 12
METADATA_DATE: 2000 05 26
DATA_FILE_SIZE: 43905260
BYTE_COUNT: 5740
