FILENAME: O4411213.NWS.1077737.tif
QUADRANGLE_NAME: VINEGAR HILL
QUADRANT: NW
WEST_LONGITUDE: -112 30 0.00000
EAST_LONGITUDE: -112 26 15.00000
NORTH_LATITUDE: 44 52 30.00000
SOUTH_LATITUDE: 44 48 45.00000
PRODUCTION_DATE: 2000 4 14
RASTER_ORDER: LEFT_RIGHT/TOP_BOTTOM
BAND_ORGANIZATION: SINGLE FILE
BAND_CONTENT: BLACK&WHITE
BAND_CONTENT: UNDEFINED
BAND_CONTENT: UNDEFINED
BITS_PER_PIXEL: 8
SAMPLES_AND_LINES: 5734 7644
HORIZONTAL_DATUM: NAD83
HORIZONTAL_COORDINATE_SYSTEM: UTM
COORDINATE_ZONE: 12
HORIZONTAL_UNITS: METERS
HORIZONTAL_RESOLUTION: 1.00000
SECONDARY_HORIZONTAL_DATUM: NAD27
XY_ORIGIN: 381024.00000 4970460.00000
SECONDARY_XY_ORIGIN: 381087.03300 4970251.16800
NATION: US
NATION: "SCIENCE
STATE: MT
NW_QUAD_CORNER_XY: 381520.20200 4970159.01800
NE_QUAD_CORNER_XY: 386456.86600 4970069.71000
SE_QUAD_CORNERY_XY: 386334.00700 4963126.92700
SW_QUAD_CORNER_XY: 381391.99900 4963216.23400
SECONDARY_NW_QUAD_XY: 381516.71500 4969941.97200
SECONDARY_NE_QUAD_XY: 386453.52400 4969852.66100
SECONDARY_SE_QUAD_XY: 386330.66600 4962909.93700
SECONDARY_SW_QUAD_XY: 381388.51200 4962999.24600
RMSE_XY: 1.80000
IMAGE_SOURCE: BLACK AND WHITE FILM
SOURCE_IMAGE_ID: NAPP 8382 207
SOURCE_IMAGE_DATE: 1995 08 01
SOURCE_IMAGE_ID: NAPP 8382 208
SOURCE_IMAGE_DATE: 1995 08 01
SOURCE_IMAGE_ID: NAPP 8382 238
SOURCE_IMAGE_DATE: 1995 08 01
SOURCE_DEM_DATE: 1967 00 00
AGENCY: WESTERN MAPPING CENTER (WMC)
PRODUCER: UNDEFINED
PRODUCTION_SYSTEM: GIS/MAGIC
COMPRESSION: UNDEFINED
STANDARD_VERSION: 1996 12
METADATA_DATE: 2000 06 13
DATA_FILE_SIZE: 43836430
BYTE_COUNT: 5734
